BEGIN:VCALENDAR
VERSION:2.0
PRODID:http://www.gelsenkirchen.de
METHOD:PUBLISH
BEGIN:VTIMEZONE
TZID:Europe/Berlin
BEGIN:DAYLIGHT
TZOFFSETFROM:+0100
TZOFFSETTO:+0200
DTSTART:19810329T020000
RRULE:FREQ=YEARLY;BYMONTH=3;BYDAY=-1SU
TZNAME:CEST
END:DAYLIGHT
BEGIN:STANDARD
TZOFFSETFROM:+0200
TZOFFSETTO:+0100
DTSTART:19961027T030000
RRULE:FREQ=YEARLY;BYMONTH=10;BYDAY=-1SU
TZNAME:CET
END:STANDARD
END:VTIMEZONE
BEGIN:VEVENT
UID:89897
ORGANIZER;CN="Stadt Gelsenkirchen - Referat Kultur" :MAILTO:referat.kultur@gelsenkirchen.de
LOCATION:Stadtgarten Gelsenkirchen - Musikpavillon, Zeppelinallee, 45879 Gelsenkirchen
SUMMARY:SommerSound: Sofia Talvik
DESCRIPTION:Die gebürtige Schwedin Sofia Talvik ist mit ihrer Musik um die ganze Welt gereist. Auf ihrem neuen und 9. Album »Center of the Universe« vereint sie ihre eigene unverwechselbare nordische Melancholie mit moderner Folkmusik im amerikanischen Stil und definiert so ihren einzigartigen Weg. Sofia Talvik ist eine außergewöhnliche Künstlerin und begeisterte Geschichtenerzählerin mit einer Stimme, die mit Größen wie Joni Mitchell, Judy Collins undanderen vergleichbar ist. Die Gäste erwartet ein einzigartiger intimer Abend, genau wie in den Speakeasy-Bars der 1970er Jahre. Sofia führt informativ und kurzweilig und an viele Stellen humorvoll durch den Abend, tritt in ein lebendige Interaktion mit dem Publikum, vermittele Nähe und Authentizität. Sie ist eine erfahrene internationale Künstlerin, die durch 48 US-Bundesstaaten, viele Länder in Europa und weit entfernte Orte wie Neuseeland gereist ist.
CLASS:PUBLIC
DTSTART;TZID=Europe/Berlin:20250810T180000
DTSTAMP:20060812T125900Z
END:VEVENT
END:VCALENDAR