BEGIN:VCALENDAR
VERSION:2.0
PRODID:http://www.gelsenkirchen.de
METHOD:PUBLISH
BEGIN:VTIMEZONE
TZID:Europe/Berlin
BEGIN:DAYLIGHT
TZOFFSETFROM:+0100
TZOFFSETTO:+0200
DTSTART:19810329T020000
RRULE:FREQ=YEARLY;BYMONTH=3;BYDAY=-1SU
TZNAME:CEST
END:DAYLIGHT
BEGIN:STANDARD
TZOFFSETFROM:+0200
TZOFFSETTO:+0100
DTSTART:19961027T030000
RRULE:FREQ=YEARLY;BYMONTH=10;BYDAY=-1SU
TZNAME:CET
END:STANDARD
END:VTIMEZONE
BEGIN:VEVENT
UID:89355
ORGANIZER;CN="Förderverein Rock am Dom Gelsenkirchen e.V." :MAILTO:info@rock-am-dom-gelsenkirchen.de
LOCATION:Urbanus-Park am Michaelshaus, Hagenstraße / Ecke Hochstaße, 45894 Buer
SUMMARY:Kulturbiergarten: Ricki's Meutesänger
DESCRIPTION:Das etwas andere Meutesingen mit „Ricki‘s Meutesänger“, eine sanges- und spielfreudige Truppe, bestehend aus: Ricki Dumjahn, Ukulele und Gesang, Rudolf Schöps, Gitarre und Gesang, Marty West, Bass und Gesang, Kay Uhlmann, Akkordeon und Gesang, die zum Mitsingen animiert. Der Spaß ist bei der Truppe Programm. Die Lieder sind bunt gewürfelt, teils uralte Moritaten, teils 20er Jahre, Schlager der letzten 70 Jahre usw... Liedtexte werden - wie immer - verteilt. Bisher sind sie im Wohnzimmer GE aufgetreten und nun kommen sie zum ersten Mal in den Kulturbiergarten nach Buer.
CLASS:PUBLIC
DTSTART;TZID=Europe/Berlin:20250813T193000
DTSTAMP:20060812T125900Z
END:VEVENT
END:VCALENDAR