BEGIN:VCALENDAR
VERSION:2.0
PRODID:http://www.gelsenkirchen.de
METHOD:PUBLISH
BEGIN:VTIMEZONE
TZID:Europe/Berlin
BEGIN:DAYLIGHT
TZOFFSETFROM:+0100
TZOFFSETTO:+0200
DTSTART:19810329T020000
RRULE:FREQ=YEARLY;BYMONTH=3;BYDAY=-1SU
TZNAME:CEST
END:DAYLIGHT
BEGIN:STANDARD
TZOFFSETFROM:+0200
TZOFFSETTO:+0100
DTSTART:19961027T030000
RRULE:FREQ=YEARLY;BYMONTH=10;BYDAY=-1SU
TZNAME:CET
END:STANDARD
END:VTIMEZONE
BEGIN:VEVENT
UID:89352
ORGANIZER;CN="Förderverein Rock am Dom Gelsenkirchen e.V." :MAILTO:info@rock-am-dom-gelsenkirchen.de
LOCATION:Urbanus-Park am Michaelshaus, Hagenstraße / Ecke Hochstaße, 45894 Buer
SUMMARY:Kulturbiergarten: Flohmarkt
DESCRIPTION:Wir veranstalten einen Flohmarkt. Wir wollen keine Profiverkäufer, sondern möchten Euch (also unser Publikum) die Möglichkeit geben, Sachen die ihr nicht mehr benötigt, zu verkaufen. Wie sich das für unseren Kulturbiergarten gehört, soll das Ganze freundlich und niveauvoll vonstattengehen.Es muss auch Zeit für ne Bratwurst, ne Tasse Kaffee, ein Bier und ein Schwätzchen bleiben. Wir sorgen noch ein wenig für Live-Musik und schon haben wir einen schönen Sommer Sonntag.Was könnt ihr anbieten? Fast alles!- gut erhaltene Kleidung für Babys, Kinder, Jugendliche und Erwachsene- Schuhe, Sportkleidung, Sportausrüstungen- Spielzeug aller Art (bitte keine Kuscheltiere)- Bücher, Schallplatten und CDs- Musikinstrumente- Kinderfahrzeuge (Fahrräder, Roller, Bobbycars, Tretfahrzeuge)und vieles mehr - aber bitte keinen Ramsch und keine Neuware!!!!Verkaufsstand - Tischbuchung:Ein Verkaufsstand kostet zzgl. VVK Gebühr 10 €. Ihr bekommt dafür eine Bierzeltgarnitur (ein Tisch, zwei Bänke). Diese dürft ihr als Verkaufsstand nutzen. Ihr dürft auch noch einen kleinen Klapptisch dazustellen.Speisen und Getränke dürft ihr nicht verkaufen. Die gibt es an den Verkaufsständen im Kulturbiergarten.
CLASS:PUBLIC
DTSTART;TZID=Europe/Berlin:20250810T110000
DTSTAMP:20060812T125900Z
END:VEVENT
END:VCALENDAR