BEGIN:VCALENDAR
VERSION:2.0
PRODID:http://www.gelsenkirchen.de
METHOD:PUBLISH
BEGIN:VTIMEZONE
TZID:Europe/Berlin
BEGIN:DAYLIGHT
TZOFFSETFROM:+0100
TZOFFSETTO:+0200
DTSTART:19810329T020000
RRULE:FREQ=YEARLY;BYMONTH=3;BYDAY=-1SU
TZNAME:CEST
END:DAYLIGHT
BEGIN:STANDARD
TZOFFSETFROM:+0200
TZOFFSETTO:+0100
DTSTART:19961027T030000
RRULE:FREQ=YEARLY;BYMONTH=10;BYDAY=-1SU
TZNAME:CET
END:STANDARD
END:VTIMEZONE
BEGIN:VEVENT
UID:89189
ORGANIZER;CN="TSC Blau-Weiß Gelsenkirchen e.V." :MAILTO:post@gelsentanz.de
LOCATION:TSC Blau-Weiß Gelsenkirchen e. V., Grenzstraße 100, 45881 Gelsenkirchen
SUMMARY:Die Tanzstunde
DESCRIPTION:Ihr möchtet tanzen lernen – aber ganz entspannt und ohne Stress? Dann ist unsere Tanzstunde genau das Richtige für euch!  In diesem besonderen Format widmen wir uns an vier aufeinanderfolgenden Sonntagen jeweils einem beliebten Gesellschaftstanz. Du lernst Schritt für Schritt Discofox, Foxtrott, ChaCha und Langsamen Walzer – mit viel Geduld, guter Musik und einem tollen Gemeinschaftsgefühl.Statt alles auf einmal, konzentriert ihr euch jede Woche nur auf einen Tanz. Das bringt Sicherheit, fördert das Selbstvertrauen – und macht richtig Spaß!  Unser erfahrener Trainer Dirk Richartz holt euch dort ab, wo ihr steht. Vorkenntnisse braucht ihr keine – nur Freude an Bewegung!Entdeckt, wie schön Tanzen sein kann – wir freuen uns auf euch in der Tanzstunde!Ein Tanz pro SonntagSchritt für Schritt mit SpaßDiscofox - Foxtrott - ChaCha - Langsamer WalzerFür Einsteiger – für alle!An vier Sonntagen: 10.08., 17.08., 24.08. und 31.08.2025 jeweils von 15:00–16:00 Uhr
CLASS:PUBLIC
DTSTART;TZID=Europe/Berlin:20250824T150000
DTEND;TZID=Europe/Berlin:20250824T160000
DTSTAMP:20060812T125900Z
END:VEVENT
END:VCALENDAR