BEGIN:VCALENDAR
VERSION:2.0
PRODID:http://www.gelsenkirchen.de
METHOD:PUBLISH
BEGIN:VTIMEZONE
TZID:Europe/Berlin
BEGIN:DAYLIGHT
TZOFFSETFROM:+0100
TZOFFSETTO:+0200
DTSTART:19810329T020000
RRULE:FREQ=YEARLY;BYMONTH=3;BYDAY=-1SU
TZNAME:CEST
END:DAYLIGHT
BEGIN:STANDARD
TZOFFSETFROM:+0200
TZOFFSETTO:+0100
DTSTART:19961027T030000
RRULE:FREQ=YEARLY;BYMONTH=10;BYDAY=-1SU
TZNAME:CET
END:STANDARD
END:VTIMEZONE
BEGIN:VEVENT
UID:89070
ORGANIZER;CN="Kommunales Kino (KoKi)" 
LOCATION:Schauburg Filmpalast, Horster Straße 6, 45897 Gelsenkirchen
SUMMARY:Kameradschaft (17:45 Uhr u. 20:15)
DESCRIPTION:Drama von Georg Wilhelm Pabst mit: Alexander Granach, Fritz Kampers, Ernst Busch, Daniel Mendaille, Marguerite Debos, Elisabeth Wendt, Gustav Püttjer, Héléna Manson, Oskar Höcker, Andrée Ducret; D/F 1931; 86 Minuten; FSK: ab 12 J. Auch nach Ende der Ersten Weltkriegs ist das Klima an der deutsch-französischen Grenze von Feindseligkeit und Ressentiments geprägt. In einem französischen Bergwerk nahe der deutschen Grenze kommt es zu einer Grubenexplosion. Nahezu 600 französische Kumpel werden verschüttet, jede Hilfe scheint aussichtslos. In der benachbarten Grube auf der deutschen Seite kommt es zu erregten Auseinandersetzungen. Obwohl zeitweilig die alte Feindschaft zu Frankreich triumphiert, entschließen sich die deutschen Bergleute zu einer solidarischen Rettungsaktion. Die Grenze, die zwei Völker in feindliche Lager trennt, ist vorübergehend gefallen. Ein Zeichen ist gesetzt.Präsentiert in der KoKi-Reihe „150 Jahre Stadt Gelsenkirchen". Die Reihe zeigt drei Filme, die zu unterschiedlichen Zeiten in Gelsenkirchen gedreht wurden und Einblick gewähren in die Bergbau-, Industrie- und Fußballstadt Gelsenkirchen.
CLASS:PUBLIC
DTSTART;TZID=Europe/Berlin:20250610
DTEND;TZID=Europe/Berlin:20250612
DTSTAMP:20060812T125900Z
END:VEVENT
END:VCALENDAR