BEGIN:VCALENDAR
VERSION:2.0
PRODID:http://www.gelsenkirchen.de
METHOD:PUBLISH
BEGIN:VTIMEZONE
TZID:Europe/Berlin
BEGIN:DAYLIGHT
TZOFFSETFROM:+0100
TZOFFSETTO:+0200
DTSTART:19810329T020000
RRULE:FREQ=YEARLY;BYMONTH=3;BYDAY=-1SU
TZNAME:CEST
END:DAYLIGHT
BEGIN:STANDARD
TZOFFSETFROM:+0200
TZOFFSETTO:+0100
DTSTART:19961027T030000
RRULE:FREQ=YEARLY;BYMONTH=10;BYDAY=-1SU
TZNAME:CET
END:STANDARD
END:VTIMEZONE
BEGIN:VEVENT
UID:88903
ORGANIZER;CN="Stadt Gelsenkirchen" :MAILTO:stadt@gelsenkirchen.de
LOCATION:Ernst-Käsemann-Platz, Rotthauser Markt 15, 45884 Gelsenkirchen
SUMMARY:Bezirksfest Süd
DESCRIPTION:50 Jahre Stadt Gelsenkirchen - und das wird u.a. mit Bezirksfesten im Stadtgebiet gefeiert!Mit diversen Snacks und Getränken wie Crepes, Cocktails, türkischen Spezialitäten oder einer Trinkwasserwand von Gelsenwasser ist selbstverständlich für das leibliche Wohl gesorgt. Große und kleine Besucherinnen und Besucher können sich darüber hinaus auf tolle Attraktionen, Angebote und Programmpunkte freuen:Samstag, 12. Juli (15 - 22 Uhr): Rahmenprogramm: Kinderschminken und GlitzertattoosSchalke-Toreand und -HüpfburgBallonkunstBewegungsparcours von Gelsensport in Kooperationen mit Vereinen Mitmachaktionen der Vereine Bergbau-Ausstellung Stadtteilarchiv RotthausenInfostand und Rikscha Generationennetz Gelsenkirchen e.V.westafrikanische Speisen und Getränkeu.v.m.Bühnenprogramm:15 Uhr: Begrüßung durch Bezirksbürgermeister Michael Thomas Fath &amp; DJ Sam Vegas15:15 Uhr: AWO-Tanzgruppe Vielfalt 16 Uhr: Musik von DJ Sam Vegas16:30 Uhr: Patrick Branduo17 Uhr: Zirkus Vorstellung - Ev. Jugend Emmaus-Gemeinde18 Uhr: Live-Musik: Hitstorm19:15 Uhr: Musik von DJ Sam VegasSonntag, 13. Juli (11 - 18 Uhr): Rahmenprogramm:Kinderschminken und GlitzertattoosSchalke-Torwand und -HüpfburgBallonkunstBewegungsparcours von Gelsensport in Kooperationen mit VereinenMitmachaktionen der VereineBergbau-Ausstellung Stadtteilarchiv RotthausenInfostand der Referate Umwelt sowie Kinder, Jugend und Familie westafrikanische Speisen und Getränkeu.v.mBühnenprogramm:11 Uhr: Begrüßung durch Bezirksbürgermeister Michael Thomas Fath &amp; DJ Sam Vegas11:30 Uhr: Mitmach-Show "Ritter Rost räumt auf"12:15 Uhr: Grußwort Oberbürgermeisterin Karin Welge12:30 Uhr: WAZ-Maskottchen Checky und REL-Maskottchen Emil13:30 Uhr: Mitmach-Show "Ritter Rost räumt auf"14:15 Uhr: Makoi: Trommeln, Schalke-Maskottchen Erwin15 Uhr: Mitmach-Show "Ritter Rost räumt auf"15:45 Uhr: AWO-HipHop-Gruppe Rotthausen16:30 Uhr: Mitmach-Show "Ritter Rost räumt auf"17 Uhr: Live-Musik: Italo Pop - Toto Cam Alle Angaben ohne Gewähr. 
CLASS:PUBLIC
DTSTART;TZID=Europe/Berlin:20250712
DTEND;TZID=Europe/Berlin:20250715
DTSTAMP:20060812T125900Z
END:VEVENT
END:VCALENDAR