BEGIN:VCALENDAR
VERSION:2.0
PRODID:http://www.gelsenkirchen.de
METHOD:PUBLISH
BEGIN:VTIMEZONE
TZID:Europe/Berlin
BEGIN:DAYLIGHT
TZOFFSETFROM:+0100
TZOFFSETTO:+0200
DTSTART:19810329T020000
RRULE:FREQ=YEARLY;BYMONTH=3;BYDAY=-1SU
TZNAME:CEST
END:DAYLIGHT
BEGIN:STANDARD
TZOFFSETFROM:+0200
TZOFFSETTO:+0100
DTSTART:19961027T030000
RRULE:FREQ=YEARLY;BYMONTH=10;BYDAY=-1SU
TZNAME:CET
END:STANDARD
END:VTIMEZONE
BEGIN:VEVENT
UID:87568
ORGANIZER;CN="Stadt Gelsenkirchen" :MAILTO:stadt@gelsenkirchen.de
LOCATION:Bildungszentrum (oberes Foyer), Ebertstraße 19, 45879 Gelsenkirchen
SUMMARY:Die 5. Säule der städtischen Wirtschaft
DESCRIPTION:Bei dieser Stadtrundfahrt begeben sich die Teilnehmenden auf den Spuren der ehemaligen Kleiderfabriken in Gelsenkirchen und Buer - vor Ort mit Bildern, Geschichten und Erzählungen aus den Kleiderfabriken. Start ist die Ausstellung „Arbeit an der Mode" im oberen Foyer des Bildungszentrums. Nach einer kurzen Einführung geht es dann mit dem Bus weiter.Eine telefonische Anmeldung (0209 169-2549) ist notwendig (Kursnummer 2511326). 
CLASS:PUBLIC
DTSTART;TZID=Europe/Berlin:20250329T130000
DTEND;TZID=Europe/Berlin:20250329T170000
DTSTAMP:20060812T125900Z
END:VEVENT
END:VCALENDAR