BEGIN:VCALENDAR
VERSION:2.0
PRODID:http://www.gelsenkirchen.de
METHOD:PUBLISH
BEGIN:VTIMEZONE
TZID:Europe/Berlin
BEGIN:DAYLIGHT
TZOFFSETFROM:+0100
TZOFFSETTO:+0200
DTSTART:19810329T020000
RRULE:FREQ=YEARLY;BYMONTH=3;BYDAY=-1SU
TZNAME:CEST
END:DAYLIGHT
BEGIN:STANDARD
TZOFFSETFROM:+0200
TZOFFSETTO:+0100
DTSTART:19961027T030000
RRULE:FREQ=YEARLY;BYMONTH=10;BYDAY=-1SU
TZNAME:CET
END:STANDARD
END:VTIMEZONE
BEGIN:VEVENT
UID:87476
ORGANIZER;CN="Referat Gesundheit der Stadt Gelsenkirchen" 
LOCATION:Dienstgebäude Kurt-Schumacher-Straße 4 (Gesundheitsamt), Kurt-Schumacher-Straße 4, 45879 Gelsenkirchen
SUMMARY:Tag des Gesundheitsamtes
DESCRIPTION:Das Referat Gesundheit der Stadt Gelsenkirchen beteiligt sich am Aktionstag und lädt alle Bürgerinnen und Bürger herzlich ein, am Donnerstag, 19. März 2026, von 10 bis 15 Uhr zum Tag der offenen Tür in der Kurt-Schumacher-Straße 4 vorbeizuschauen.An diesem Tag werden verschiedene reguläre Angebote des Gesundheitsamtes in besonderer Form geöffnet und vorgestellt. Alle Angebote sind selbstverständlich kostenlos und anonym.Offener Testtag zu HIV und sexuell übertragbaren InfektionenVon 10 bis 15 Uhr bietet die Fachstelle für HIV und sexuelle Gesundheit einen offenen Test- und Beratungstag an. Das Angebot umfasst:Beratung und Informationen rund um HIV/AIDS sowie andere sexuell übertragbare Infektionen (STIs)Durchführung eines HIV-Testszusätzliche Testangebote auf Lues (Syphilis), Chlamydien und GonorrhoeBeratung rund um Gesundheit und medizinische VersorgungDie Beratungs- und Lotsenstelle „Gemeinsam für Gesundheit – Vor Ort“ steht ebenfalls von 10 bis 15 Uhr für Fragen zur Verfügung. Bürgerinnen und Bürger können sich dort zu gesundheitsförderlichen Angeboten und zur medizinischen Versorgung beraten lassen.Unter anderem können folgende Themen besprochen werden:Unterstützung bei Arzt- oder KlinikterminenVermittlung zu Gesundheits- und Bewegungsangeboten in der Nähegemeinsame Planung von gesundheitsförderlichen MaßnahmenInformationen zur mentalen GesundheitAuch der Sozialpsychiatrische Dienst (SPDi) beteiligt sich am Tag des Gesundheitsamtes und öffnet seine Türen.10 bis 13 Uhr: Ärztliche Sprechstunde zu Fragen rund um Psychiatrie und Suchterkrankungen10 bis 15 Uhr: Generelle Informationen über die Arbeit des Dienstes sowie Beratung zu Fragen, etwa im Umgang mit Angehörigen oder Nachbarn, bei denen psychische Probleme vermutet werdenDie Stadt Gelsenkirchen lädt alle Menschen in Gelsenkirchen ein, die Arbeit des Referats Gesundheit kennenzulernen, Informationen zu erhalten und die Beratung und Unterstützung der Mitarbeitenden in Anspruch zu nehmen.
CLASS:PUBLIC
DTSTART;TZID=Europe/Berlin:20260319T100000
DTEND;TZID=Europe/Berlin:20260319T150000
DTSTAMP:20060812T125900Z
END:VEVENT
END:VCALENDAR