BEGIN:VCALENDAR
VERSION:2.0
PRODID:http://www.gelsenkirchen.de
METHOD:PUBLISH
BEGIN:VTIMEZONE
TZID:Europe/Berlin
BEGIN:DAYLIGHT
TZOFFSETFROM:+0100
TZOFFSETTO:+0200
DTSTART:19810329T020000
RRULE:FREQ=YEARLY;BYMONTH=3;BYDAY=-1SU
TZNAME:CEST
END:DAYLIGHT
BEGIN:STANDARD
TZOFFSETFROM:+0200
TZOFFSETTO:+0100
DTSTART:19961027T030000
RRULE:FREQ=YEARLY;BYMONTH=10;BYDAY=-1SU
TZNAME:CET
END:STANDARD
END:VTIMEZONE
BEGIN:VEVENT
UID:86659
ORGANIZER;CN="Red Braid Marketing GmbH" 
LOCATION:Veranstaltungszentrum Ruhr Uni Bochum, Universitätsstraße 150, 44801 Bochum
SUMMARY:RUB Karrieremesse
DESCRIPTION:In Gelsenkirchen ist die Stadt einer der größten Arbeitgeber und leistungsstarker Dienstleister für rund 270.000 Menschen. Mehr als 7.200 Mitarbeiterinnen und Mitarbeiter sorgen täglich dafür, dass die Menschen in Gelsenkirchen gut leben können. Bei der Firmenkontaktmesse an der Ruhr Uni Bochum könnt ihr mit der Ausbildungsabteilung in Kontakt kommen und euch über Jobs und Praktika bei der Stadt Gelsenkirchen informieren. 
CLASS:PUBLIC
DTSTART;TZID=Europe/Berlin:20260616T100000
DTEND;TZID=Europe/Berlin:20260616T160000
DTSTAMP:20060812T125900Z
END:VEVENT
END:VCALENDAR