BEGIN:VCALENDAR
VERSION:2.0
PRODID:http://www.gelsenkirchen.de
METHOD:PUBLISH
BEGIN:VTIMEZONE
TZID:Europe/Berlin
BEGIN:DAYLIGHT
TZOFFSETFROM:+0100
TZOFFSETTO:+0200
DTSTART:19810329T020000
RRULE:FREQ=YEARLY;BYMONTH=3;BYDAY=-1SU
TZNAME:CEST
END:DAYLIGHT
BEGIN:STANDARD
TZOFFSETFROM:+0200
TZOFFSETTO:+0100
DTSTART:19961027T030000
RRULE:FREQ=YEARLY;BYMONTH=10;BYDAY=-1SU
TZNAME:CET
END:STANDARD
END:VTIMEZONE
BEGIN:VEVENT
UID:86532
ORGANIZER;CN="VHS Gelsenkirchen" 
LOCATION:Online, -, - -
SUMMARY:Macht KI uns alle dumm?
DESCRIPTION:Hirnforscher Prof. Dr. Martin Korte geht in seinem WebVortrag auf menschliche und künstliche Intelligenz (KI) ein und wird folgende Fragen behandeln: Macht KI uns alle in Zukunft dumm? Was können wir von unserem Gehirn erwarten? Macht der ""denkende Computer"" unser Leben leichter oder riskieren wir unsere Selbstbestimmung? Was wird aus unserer Gesellschaft, unserer Wirtschaft und unserem Geistesleben, wenn KI immer leistungsfähiger wird? Wie viel Offenheit brauchen wir - und wo müssen der Technik Schranken gesetzt werden? Wie kann sich eine Ko-Intelligenz zwischen Mensch und Maschine entwickeln?Prof. Dr. Martin Korte ist Professor für Neurobiologie und Leiter der Abteilung Zelluläre Neurobiologie an der TU Braunschweig.Die Veranstaltung wird in Kooperation mit der vhs Böblingen-Sindelfingen angeboten. Technische Voraussetzungen sind ein internetfähiges Endgerät mit Lautsprechern oder Kopfhörern. Als digitales Konferenztool wird die Plattform ""Edudip"" genutzt. Die Zugangsdaten werden mit der Anmeldebestätigung per Mail zugeschickt.Online-Anmeldung erforderlich (Kursnummer 2511200)
CLASS:PUBLIC
DTSTART;TZID=Europe/Berlin:20250217T190000
DTEND;TZID=Europe/Berlin:20250217T200000
DTSTAMP:20060812T125900Z
END:VEVENT
END:VCALENDAR