BEGIN:VCALENDAR
VERSION:2.0
PRODID:http://www.gelsenkirchen.de
METHOD:PUBLISH
BEGIN:VTIMEZONE
TZID:Europe/Berlin
BEGIN:DAYLIGHT
TZOFFSETFROM:+0100
TZOFFSETTO:+0200
DTSTART:19810329T020000
RRULE:FREQ=YEARLY;BYMONTH=3;BYDAY=-1SU
TZNAME:CEST
END:DAYLIGHT
BEGIN:STANDARD
TZOFFSETFROM:+0200
TZOFFSETTO:+0100
DTSTART:19961027T030000
RRULE:FREQ=YEARLY;BYMONTH=10;BYDAY=-1SU
TZNAME:CET
END:STANDARD
END:VTIMEZONE
BEGIN:VEVENT
UID:86495
ORGANIZER;CN="Institut für Stadtgeschichte" :MAILTO:isg@gelsenkirchen.de
LOCATION:Dokumentationsstätte "Gelsenkirchen im Nationalsozialismus", Cranger Straße 323, 45891 Gelsenkirchen
SUMMARY:Wieder gut gemacht?
DESCRIPTION:Die Terrorherrschaft der Nationalsozialisten hat zu millionenfachem Unrecht geführt. Verfolgte, wenn sie denn überlebten, hatten oft schwerste körperliche und seelische Beeinträchtigungen zu ertragen. Wie ist die Bundesrepublik mit den Opfern und Geschädigten der Naziherrschaft umgegangen? Gab es für alle oder die meisten Betroffenen eine „Wiedergutmachung“? Immer noch leben weltweit etwa 250.000 durch die Nationalsozialisten verfolgte Menschen. Allein das ist Grund genug zur historischen Betrachtung und zum Blick auf den heutigen und zukünftigen Umgang mit dem unseligen Nazi-Erbe.Infos unter: 0209 / 169-8551
CLASS:PUBLIC
DTSTART;TZID=Europe/Berlin:20250129T180000
DTSTAMP:20060812T125900Z
END:VEVENT
END:VCALENDAR