BEGIN:VCALENDAR
VERSION:2.0
PRODID:http://www.gelsenkirchen.de
METHOD:PUBLISH
BEGIN:VTIMEZONE
TZID:Europe/Berlin
BEGIN:DAYLIGHT
TZOFFSETFROM:+0100
TZOFFSETTO:+0200
DTSTART:19810329T020000
RRULE:FREQ=YEARLY;BYMONTH=3;BYDAY=-1SU
TZNAME:CEST
END:DAYLIGHT
BEGIN:STANDARD
TZOFFSETFROM:+0200
TZOFFSETTO:+0100
DTSTART:19961027T030000
RRULE:FREQ=YEARLY;BYMONTH=10;BYDAY=-1SU
TZNAME:CET
END:STANDARD
END:VTIMEZONE
BEGIN:VEVENT
UID:85107
ORGANIZER;CN="Wirtschaftsförderung Gelsenkirchen" 
LOCATION:Wissenschaftspark, Munscheidstr. 14, 45886 Gelsenkirchen
SUMMARY:Vom Markenkern zum Narrativ
DESCRIPTION:Warum ist Storytelling so wichtig beim Markenaufbau?Am 7. November 2024 lädt die Wirtschaftsförderung Gelsenkirchen herzlich zum exklusiven Workshop "Vom Markenkern zum Narrativ" ein. Die Veranstaltung zeigt, wie Storytelling in der Markenentwicklung wirkt. Am Beispiel des Gelsenkirchener StartUps B. Just Bread wird veranschaulicht, wie dessen Unternehmensgeschichte in der Praxis umgesetzt wird.Der Workshop bietet die Gelegenheit, von den Experten von B. Just Bread und der Marketingagentur G&amp;R persönlich zu lernen. Die Teilnahme ist kostenfrei, die Plätze begrenzt.Anmeldung unter: kristofalexander.hoefs@gelsenkirchen.de
CLASS:PUBLIC
DTSTART;TZID=Europe/Berlin:20241107T173000
DTEND;TZID=Europe/Berlin:20241107T193000
DTSTAMP:20060812T125900Z
END:VEVENT
END:VCALENDAR