BEGIN:VCALENDAR
VERSION:2.0
PRODID:http://www.gelsenkirchen.de
METHOD:PUBLISH
BEGIN:VTIMEZONE
TZID:Europe/Berlin
BEGIN:DAYLIGHT
TZOFFSETFROM:+0100
TZOFFSETTO:+0200
DTSTART:19810329T020000
RRULE:FREQ=YEARLY;BYMONTH=3;BYDAY=-1SU
TZNAME:CEST
END:DAYLIGHT
BEGIN:STANDARD
TZOFFSETFROM:+0200
TZOFFSETTO:+0100
DTSTART:19961027T030000
RRULE:FREQ=YEARLY;BYMONTH=10;BYDAY=-1SU
TZNAME:CET
END:STANDARD
END:VTIMEZONE
BEGIN:VEVENT
UID:85053
ORGANIZER;CN="Ev. Kirchenkreis GE & WAT" 
LOCATION:Kulturraum „die flora“, Florastraße 26, 45879 Gelsenkirchen
SUMMARY:Die Vielfalt im Leben von Frau Seibold
DESCRIPTION:Clowneskes Theaterstück über die große Politik im Alltag – und umgekehrt. Von und mit Dr. Gisela Matthiae.Ein besonderer Abend im Rahmen des Theaterprojekt „Auf &amp; Ab. Toleranz aufbauen, Vorurteile abbauen“. Eintritt frei – Anmeldung erforderlich.Anmeldung:0209 35989815 und impro@kirchegelsenkirchen.de
CLASS:PUBLIC
DTSTART;TZID=Europe/Berlin:20241108T190000
DTSTAMP:20060812T125900Z
END:VEVENT
END:VCALENDAR