BEGIN:VCALENDAR
VERSION:2.0
PRODID:http://www.gelsenkirchen.de
METHOD:PUBLISH
BEGIN:VTIMEZONE
TZID:Europe/Berlin
BEGIN:DAYLIGHT
TZOFFSETFROM:+0100
TZOFFSETTO:+0200
DTSTART:19810329T020000
RRULE:FREQ=YEARLY;BYMONTH=3;BYDAY=-1SU
TZNAME:CEST
END:DAYLIGHT
BEGIN:STANDARD
TZOFFSETFROM:+0200
TZOFFSETTO:+0100
DTSTART:19961027T030000
RRULE:FREQ=YEARLY;BYMONTH=10;BYDAY=-1SU
TZNAME:CET
END:STANDARD
END:VTIMEZONE
BEGIN:VEVENT
UID:7943
ORGANIZER;CN="Stadt Gelsenkirchen - Referat Kultur in Kooperation mit dem Schauburg Filmpalast" :MAILTO:referat.kultur@gelsenkirchen.de
LOCATION:Schauburg Filmpalast, Horster Straße 6, 45897 Gelsenkirchen
SUMMARY:Am grünen Rand der Welt (Far from the Madding Crowd)
DESCRIPTION:Drama von Thomas Vinterberg mit Carey Mulligan, Matthias Schoenaerts, Michael Sheen u. a.; GB/USA 2015, 119 Min., FSK: ab 6 J. Die eigenwillige und schöne junge Balthseba Everdene (Carey Mulligan) lebt um 1870 im Süden Englands. Sie hat drei Verehrer: den treuherzigen, aber armen Schäfer Gabriel Oak (Matthias Schoenaerts), den wohlhabenden Gutbesitzer William Boldwood (Michael Sheen) und den hübschen, aber rücksichtslosen Offizier Frank Troy (Tom Sturridge). Letzterer erregt Bathshebas Interesse am ehesten. – Neuverfilmung des gleichnamigen Romans von Thomas Hardy aus dem Jahre 1874. (Erstverfilmung von John Schlesinger 1967 unter dem Titel „Die Herrin von Thornhill“.)Präsentiert in der KoKi-Reihe „Literatur im Film“.
CLASS:PUBLIC
DTSTART;TZID=Europe/Berlin:20150906T124500
DTSTAMP:20060812T125900Z
END:VEVENT
END:VCALENDAR