BEGIN:VCALENDAR
VERSION:2.0
PRODID:http://www.gelsenkirchen.de
METHOD:PUBLISH
BEGIN:VTIMEZONE
TZID:Europe/Berlin
BEGIN:DAYLIGHT
TZOFFSETFROM:+0100
TZOFFSETTO:+0200
DTSTART:19810329T020000
RRULE:FREQ=YEARLY;BYMONTH=3;BYDAY=-1SU
TZNAME:CEST
END:DAYLIGHT
BEGIN:STANDARD
TZOFFSETFROM:+0200
TZOFFSETTO:+0100
DTSTART:19961027T030000
RRULE:FREQ=YEARLY;BYMONTH=10;BYDAY=-1SU
TZNAME:CET
END:STANDARD
END:VTIMEZONE
BEGIN:VEVENT
UID:79249
ORGANIZER;CN="Stadt Gelsenkirchen" :MAILTO:stadt@gelsenkirchen.de
LOCATION:Heinrich-König-Platz, Heinrich-König-Platz, 45879 Gelsenkirchen
SUMMARY:Taylor Town
DESCRIPTION:Die Stadt Gelsenkirchen lädt alle Taylor Swift-Fans und Musikbegeisterten zu einem einzigartigen Event ein. Vom 17. bis 19. Juli 2024 verwandelt sich der Heinrich-König-Platz in der Gelsenkirchener City in „Taylor Town“ – ein Paradies für Fans der amerikanischen Sängerin. An drei aufeinanderfolgenden Tagen, jeweils von 12 bis 22 Uhr, können Besucherinnen und Besucher ein buntes Programm genießen.Die Veranstaltung ist eine gemeinsame Initiative der Stadt Gelsenkirchen, der Stadtmarketing Gesellschaft Gelsenkirchen, der City Initiative Gelsenkirchen e.V. sowie der Organisatoren Julia Meya und Marius Rupieper. Sie alle haben keine Mühen gescheut, um ein unvergessliches Erlebnis für alle Altersgruppen, Swifites und Gelsenkirchenerinnen und Gelsenkirchener zu schaffen.Auf die Gäste wartet ein abwechslungsreiches Programm, das keine Wünsche offen lässt. Neben Karaoke-Sessions, bei denen Fans ihre Lieblingshits von Taylor Swift zum Besten geben können, sorgt ein DJ-Set für die richtige Stimmung und musikalische Highlights. Auch ein Walk-In-Tattoo-Stand ist geplant. Verschiedene Händler bieten ein breites Spektrum an – von kreativen Do-it-yourself-Angeboten für alle Fans bis hin zu Essens- und Getränkeständen, die für das leibliche Wohl der Besucher sorgen.Die Stadt Gelsenkirchen und alle Mitorganisatoren laden herzlich dazu ein, diese besondere Veranstaltung zu besuchen und gemeinsam drei Tage voller Musik, Freude und Gemeinschaft zu erleben. Der Eintritt ist frei und alle sind willkommen, teilzunehmen und mitzufeiern.
CLASS:PUBLIC
DTSTART;TZID=Europe/Berlin:20240717
DTEND;TZID=Europe/Berlin:20240721
DTSTAMP:20060812T125900Z
END:VEVENT
END:VCALENDAR