BEGIN:VCALENDAR
VERSION:2.0
PRODID:http://www.gelsenkirchen.de
METHOD:PUBLISH
BEGIN:VTIMEZONE
TZID:Europe/Berlin
BEGIN:DAYLIGHT
TZOFFSETFROM:+0100
TZOFFSETTO:+0200
DTSTART:19810329T020000
RRULE:FREQ=YEARLY;BYMONTH=3;BYDAY=-1SU
TZNAME:CEST
END:DAYLIGHT
BEGIN:STANDARD
TZOFFSETFROM:+0200
TZOFFSETTO:+0100
DTSTART:19961027T030000
RRULE:FREQ=YEARLY;BYMONTH=10;BYDAY=-1SU
TZNAME:CET
END:STANDARD
END:VTIMEZONE
BEGIN:VEVENT
UID:77907
ORGANIZER;CN="Stadt Gelsenkirchen - Stadt- und Touristinfo" :MAILTO:touristinfo@gelsenkirchen.de
LOCATION:Amphitheater Gelsenkirchen, Grothusstraße 201, 45883 Gelsenkirchen
SUMMARY:IGA Führung - Der Zukunftsgarten Gelsenkirchen
DESCRIPTION:Im Sommer 2027 erwartet Gelsenkirchen ein besonderes Ereignis: der Nordsternpark wird einer der Zukunftsgärten der internationalen Gartenausstellung (IGA) Metropole Ruhr 2027. Die Veränderungen auf der Emscherinsel werden bei einem rund zweistündigen Spaziergang vor Ort vorgestellt. Auf welche Highlights können sich Besucherinnen und Besucher im Ausstellungsjahr freuen? Und was wird Gelsenkirchen auch über 2027 hinaus von der IGA erhalten bleiben?Treffpunkt: Amphitheater GelsenkirchenAnmeldung, wetterfeste Kleidung und festes Schuhwerk erforderlichAnmeldung/Info: exklusiv in der Stadt- und Touristinfo und unter 0209 169-3969
CLASS:PUBLIC
DTSTART;TZID=Europe/Berlin:20240414T140000
DTEND;TZID=Europe/Berlin:20240414T160000
DTSTAMP:20060812T125900Z
END:VEVENT
END:VCALENDAR