BEGIN:VCALENDAR
VERSION:2.0
PRODID:http://www.gelsenkirchen.de
METHOD:PUBLISH
BEGIN:VTIMEZONE
TZID:Europe/Berlin
BEGIN:DAYLIGHT
TZOFFSETFROM:+0100
TZOFFSETTO:+0200
DTSTART:19810329T020000
RRULE:FREQ=YEARLY;BYMONTH=3;BYDAY=-1SU
TZNAME:CEST
END:DAYLIGHT
BEGIN:STANDARD
TZOFFSETFROM:+0200
TZOFFSETTO:+0100
DTSTART:19961027T030000
RRULE:FREQ=YEARLY;BYMONTH=10;BYDAY=-1SU
TZNAME:CET
END:STANDARD
END:VTIMEZONE
BEGIN:VEVENT
UID:77906
ORGANIZER;CN="Kunstkiosk" 
LOCATION:Kunstkiosk, Nordring 33, 45894 Gelsenkirchen-Buer
SUMMARY:Vielfalt Zwei - Ausstellung von Rita Schröder und Lotta Vogt
DESCRIPTION:Als Fortsetzung der Ausstellung "Vielfalt" (2020) zeigt Rita Schröder ihre seitdem neu entstandenen Werke in Öl und Acryl. Sich immer wieder in neuer Technik auszuprobieren, ist für die Malerin Lebensgestaltung und Ausdruck von Lebensfreude. Diese Freude weiterzugeben, ist ihr ein Anliegen. Darum stellt sie gemeinsam mit der jungen Lotta Vogt aus, die ihre kleinformatigen Werke mit schwarzem Fineliner zum ersten Mal der Öffentlichkeit präsentiert.Öffnungszeiten: Sa. und So. von 14:00 - 17:00 Uhr und nach VereinbarungInfos unter: 0209 / 9332 929
CLASS:PUBLIC
DTSTART;TZID=Europe/Berlin:20240413
DTEND;TZID=Europe/Berlin:20240430
DTSTAMP:20060812T125900Z
END:VEVENT
END:VCALENDAR