BEGIN:VCALENDAR
VERSION:2.0
PRODID:http://www.gelsenkirchen.de
METHOD:PUBLISH
BEGIN:VTIMEZONE
TZID:Europe/Berlin
BEGIN:DAYLIGHT
TZOFFSETFROM:+0100
TZOFFSETTO:+0200
DTSTART:19810329T020000
RRULE:FREQ=YEARLY;BYMONTH=3;BYDAY=-1SU
TZNAME:CEST
END:DAYLIGHT
BEGIN:STANDARD
TZOFFSETFROM:+0200
TZOFFSETTO:+0100
DTSTART:19961027T030000
RRULE:FREQ=YEARLY;BYMONTH=10;BYDAY=-1SU
TZNAME:CET
END:STANDARD
END:VTIMEZONE
BEGIN:VEVENT
UID:77890
ORGANIZER;CN="Pixelprojekt_Ruhrgebiet" :MAILTO:peterliedtke@pixelprojekt-ruhrgebiet.de
LOCATION:Wissenschaftspark, Munscheidstr. 14, 45886 Gelsenkirchen
SUMMARY:Gelsenkirchen - Fotoarbeiten zur Entwicklung einer Stadt
DESCRIPTION:Die Stadt Gelsenkirchen - einst Stadt der Tausend Feuer - unterliegt einem ständigen Wandel. Viel Neues ist entstanden und Altes hat neue Nutzungen erfahren. Die Gesellschaft ist bunter geworden, Freizeitaktivitäten, Arbeit und der gesellschaftliche Zusammenhalt verändern sich fortlaufend. Die Ausstellung zeigt 18 Positionen und 18 Fotografinnen und Fotografen: Peter Buchwald, Ekkehart Bussenius, Wolfgang Fröhling, Dieter Grundmann, Steffen Hampe, Fred Hüning, Michael Kerstgens, Hans Jürgen Landes, Erika Lieber, Hendrik Lietmann, Pedro Malinowski, Markus Milde, Tania Reinicke, Joachim Schumacher, René Sikkes, Guntram Walter, Christian Westphalen und Gerhard Zelle.Öffnungszeiten: Mo - Fr 8:00 Uhr - 17:30 UhrInfo unter: 0209 167-1000
CLASS:PUBLIC
DTSTART;TZID=Europe/Berlin:20240307
DTEND;TZID=Europe/Berlin:20240623
DTSTAMP:20060812T125900Z
END:VEVENT
END:VCALENDAR