BEGIN:VCALENDAR
VERSION:2.0
PRODID:http://www.gelsenkirchen.de
METHOD:PUBLISH
BEGIN:VTIMEZONE
TZID:Europe/Berlin
BEGIN:DAYLIGHT
TZOFFSETFROM:+0100
TZOFFSETTO:+0200
DTSTART:19810329T020000
RRULE:FREQ=YEARLY;BYMONTH=3;BYDAY=-1SU
TZNAME:CEST
END:DAYLIGHT
BEGIN:STANDARD
TZOFFSETFROM:+0200
TZOFFSETTO:+0100
DTSTART:19961027T030000
RRULE:FREQ=YEARLY;BYMONTH=10;BYDAY=-1SU
TZNAME:CET
END:STANDARD
END:VTIMEZONE
BEGIN:VEVENT
UID:77878
ORGANIZER;CN="Ateliergemeinschaft in der alten Brotfabrik" 
LOCATION:Atelier in der alten Brotfabrik, Ückendorfer Straße 18, 45886 Gelsenkirchen
SUMMARY:Offenes Atelier in der alten Brotfabrik
DESCRIPTION:Gordana Djukic, Dragana Koslowski, Maria Meza und Petra Pelkowski bilden die neue Ateliergemeinschaft in der alten Brotfabrik und stellen erstmals gemeinsam aus. Vier bildende Künstlerinnen - vier unterschiedliche Herangehensweisen im kreativen Schaffen. Von monochrom bis farbenfroh von abstrakt bis figurativ kreieren und interpretieren sie auf Leinwand, Holz, Papier und anderen Materialien ihre eigene künstlerische Welt. Die Besucherinnen und Besucher erwartet eine interessante Ausstellung und ein schöner Einblick in das Atelierleben der vier Künstlerinnen.Öffnungszeiten: So. 07.04.2024 12:00 - 17:00 Uhr und nach VereinbarungInfos unter: 0172 / 1582 720 und auf Instagram - ateliergemeinschaft_brotfabrik
CLASS:PUBLIC
DTSTART;TZID=Europe/Berlin:20240407
DTEND;TZID=Europe/Berlin:20240506
DTSTAMP:20060812T125900Z
END:VEVENT
END:VCALENDAR