BEGIN:VCALENDAR
VERSION:2.0
PRODID:http://www.gelsenkirchen.de
METHOD:PUBLISH
BEGIN:VTIMEZONE
TZID:Europe/Berlin
BEGIN:DAYLIGHT
TZOFFSETFROM:+0100
TZOFFSETTO:+0200
DTSTART:19810329T020000
RRULE:FREQ=YEARLY;BYMONTH=3;BYDAY=-1SU
TZNAME:CEST
END:DAYLIGHT
BEGIN:STANDARD
TZOFFSETFROM:+0200
TZOFFSETTO:+0100
DTSTART:19961027T030000
RRULE:FREQ=YEARLY;BYMONTH=10;BYDAY=-1SU
TZNAME:CET
END:STANDARD
END:VTIMEZONE
BEGIN:VEVENT
UID:77667
ORGANIZER;CN="City Initiative Gelsenkirchen e.V." :MAILTO:initiative@gelsenkirchen-city.de
LOCATION:Gelsenkirchen Innenstadt, Bahnhofstraße / Bahnhofsvorplatz / Heinrich-König-Platz, 45879 Gelsenkirchen
SUMMARY:Blumen- und Gartenmarkt
DESCRIPTION:In diesem Jahr findet wieder der beliebte Blumen- und Gartenmarkt mit verkaufsoffenem Sonntag statt. Am Samstag und Sonntag (06. und 07. April) organisiert die Werbegemeinschaft Gelsenkirchen City durch die City Initiative e. V. Gelsenkirchen den beliebten Frühjahrsmarkt. Unterstützung erfahren die Organisatoren durch das Bahnhofcenter Gelsenkirchen und die Stadt Gelsenkirchen.
CLASS:PUBLIC
DTSTART;TZID=Europe/Berlin:20240406T100000
DTEND;TZID=Europe/Berlin:20240406T180000
DTSTAMP:20060812T125900Z
END:VEVENT
END:VCALENDAR