BEGIN:VCALENDAR
VERSION:2.0
PRODID:http://www.gelsenkirchen.de
METHOD:PUBLISH
BEGIN:VTIMEZONE
TZID:Europe/Berlin
BEGIN:DAYLIGHT
TZOFFSETFROM:+0100
TZOFFSETTO:+0200
DTSTART:19810329T020000
RRULE:FREQ=YEARLY;BYMONTH=3;BYDAY=-1SU
TZNAME:CEST
END:DAYLIGHT
BEGIN:STANDARD
TZOFFSETFROM:+0200
TZOFFSETTO:+0100
DTSTART:19961027T030000
RRULE:FREQ=YEARLY;BYMONTH=10;BYDAY=-1SU
TZNAME:CET
END:STANDARD
END:VTIMEZONE
BEGIN:VEVENT
UID:77661
ORGANIZER;CN="Jüdische Gemeinde Gelsenkirchen in Kooperation mit der Stadt Gelsenkirchen, Referat Kultur" 
LOCATION:Readymade - Buchhandlung & Kunst, Bochumer Str. 108, 45886 Gelsenkirchen
SUMMARY:klezmer.welten 2024: Papierene Brücken: Jiddische Schriftstellerinnen im Portrait
DESCRIPTION:Während die klezmer.welten vor allem ein Musikfestival sind, möchten wir dennoch immer wieder die sprachlich-kulturelle Umgebungskultur der Klezmer-Musik zeigen.Vor dem Holocaust sprachen etwa 12 Millionen Menschen weltweit Jiddisch, was in etwa der Einwohnerzahl des heutigen Griechenlands entspricht. Diese Kultur hat enorme Schätze hervorgebracht und einige werden Ihnen in dieser Einführung und Lesung vorgestellt. Sie widmet sich jiddischen Schriftstellerinnen wie Kadya Molodowsky (The Kadya Trio spielt am 28.04. bei den klezmer.welten) und Rachel Korn, die vor und nach dem Zweiten Weltkrieg zu den wichtigsten Stimmen der literarischen Moderne gehörten. Diese Schriftstellerinnen setzten sich in ihrem Schaffen mit aktuellen jüdischen und politischen Themen ihrer Zeit auseinander, waren in der sozialen Arbeit aktiv und führten eine oft harte Auseinandersetzung mit den Traditionen und Werten ihrer Familien.Dr. Diana Matut – Jiddistin und Übersetzerin, seit Oktober 2023 Leiterin der Alten Synagoge in Essen – möchte Ihnen Leben und Werk der Schriftstellerinnen durch kurze Einführungen und Lesungen in Jiddisch mit deutscher Übersetzung näherbringen.
CLASS:PUBLIC
DTSTART;TZID=Europe/Berlin:20240415T183000
DTSTAMP:20060812T125900Z
END:VEVENT
END:VCALENDAR