BEGIN:VCALENDAR
VERSION:2.0
PRODID:http://www.gelsenkirchen.de
METHOD:PUBLISH
BEGIN:VTIMEZONE
TZID:Europe/Berlin
BEGIN:DAYLIGHT
TZOFFSETFROM:+0100
TZOFFSETTO:+0200
DTSTART:19810329T020000
RRULE:FREQ=YEARLY;BYMONTH=3;BYDAY=-1SU
TZNAME:CEST
END:DAYLIGHT
BEGIN:STANDARD
TZOFFSETFROM:+0200
TZOFFSETTO:+0100
DTSTART:19961027T030000
RRULE:FREQ=YEARLY;BYMONTH=10;BYDAY=-1SU
TZNAME:CET
END:STANDARD
END:VTIMEZONE
BEGIN:VEVENT
UID:77538
ORGANIZER;CN="werkstatt e.V." :MAILTO:info@werkstatt-ev.de
LOCATION:werkstatt, Hagenstraße 34, 45894 Gelsenkirchen
SUMMARY:Suria Kassimi - Tracing Silence
DESCRIPTION:Strukturwandel ist ein Charakteristikum vieler vormaliger Industriestandorte.Ohne Wandel – ob politisch oder ökonomisch motiviert – gäbe es die Kraft des Beharrens nicht, die der fotografischen Vorgehensweise zugrunde liegt, nicht den Wunsch, etwas dem Strom der Zeit zu entreißen und gewissermaßen auf Dauer zu stellen.In meiner fotografischen Serie Tracing Silence verfolge ich mit meiner Kamera diese Spur der Stille. Es geht um eine zweidimensionale Interpretation des Raumes (Natur oder Architektur) und um die Fotografie als Reduktion.Meine Fotoarbeiten auf Leinwand erzählen Geschichten und übermitteln Stimmungen.Betrachter und Blick bleiben in Bewegung. Ich halte Ansichten und Eindrücke in Totalen und Details mit der Kamera fest. Erkundungsdrang und Empfindungsintensität fließen in die Aufnahmen ein.Die Stille der Industriebrachen schlägt sich als zeichenhaftes Einzelereignis nieder.Zerstörte Natur, prekäre Kultur und gefrorene Geschichte spiegeln sich in Aufnahmen, die zwischen Wirklichkeitsdarstellung und Verdichtung auf der Schwelle zur Abstraktion liegen.Die Energie der visuellen Funde spiegelt sich in einer Inszenierung, die das breite sinnliche Spektrum der Begegnung mit einem neuen Raum auffächert.Kompression und Schichtung in Fotografien und Überblendungen in Videos schälen Archetypisches aus Orten und Objekten und geben der Stille eine Sprache, die sich aus dem Sehen speist.Öffnungszeiten: Di. - Fr. 16:00 Uhr - 18:00 Uhr und Sa. 11:00 - 14:00 UhrInfos unter: 0209 / 4024 4543
CLASS:PUBLIC
DTSTART;TZID=Europe/Berlin:20240301
DTEND;TZID=Europe/Berlin:20240414
DTSTAMP:20060812T125900Z
END:VEVENT
END:VCALENDAR