BEGIN:VCALENDAR
VERSION:2.0
PRODID:http://www.gelsenkirchen.de
METHOD:PUBLISH
BEGIN:VTIMEZONE
TZID:Europe/Berlin
BEGIN:DAYLIGHT
TZOFFSETFROM:+0100
TZOFFSETTO:+0200
DTSTART:19810329T020000
RRULE:FREQ=YEARLY;BYMONTH=3;BYDAY=-1SU
TZNAME:CEST
END:DAYLIGHT
BEGIN:STANDARD
TZOFFSETFROM:+0200
TZOFFSETTO:+0100
DTSTART:19961027T030000
RRULE:FREQ=YEARLY;BYMONTH=10;BYDAY=-1SU
TZNAME:CET
END:STANDARD
END:VTIMEZONE
BEGIN:VEVENT
UID:76940
ORGANIZER;CN="Städtische Musikschule Gelsenkirchen" :MAILTO:musikschule@gelsenkirchen.de
LOCATION:Kunstschule Gelsenkirchen, Neustraße 7, 45891 Gelsenkirchen
SUMMARY:Verrückte Musikinstrumente
DESCRIPTION:Ihr könnt alte und defekte Instrumente in lustige und prachtvolle Fantasiewesen umgestalten. Wer noch ein altes Musikinstrument zuhause hat, kann das gerne mitbringen. Wer keines hat, kann auf ausgemusterte Instrumente, die wir zur Verfügung stellen, zurückgreifen.Dauer: 3 StundenAnmeldung/Info: 0209 / 6138 772
CLASS:PUBLIC
DTSTART;TZID=Europe/Berlin:20240525T100000
DTSTAMP:20060812T125900Z
END:VEVENT
END:VCALENDAR