BEGIN:VCALENDAR
VERSION:2.0
PRODID:http://www.gelsenkirchen.de
METHOD:PUBLISH
BEGIN:VTIMEZONE
TZID:Europe/Berlin
BEGIN:DAYLIGHT
TZOFFSETFROM:+0100
TZOFFSETTO:+0200
DTSTART:19810329T020000
RRULE:FREQ=YEARLY;BYMONTH=3;BYDAY=-1SU
TZNAME:CEST
END:DAYLIGHT
BEGIN:STANDARD
TZOFFSETFROM:+0200
TZOFFSETTO:+0100
DTSTART:19961027T030000
RRULE:FREQ=YEARLY;BYMONTH=10;BYDAY=-1SU
TZNAME:CET
END:STANDARD
END:VTIMEZONE
BEGIN:VEVENT
UID:75940
ORGANIZER;CN="Schalker Fan-Initiative e.V." 
LOCATION:Kulturraum „die flora“, Florastraße 26, 45879 Gelsenkirchen
SUMMARY:[AUSGEBUCHT!] Ist die Demokratie gefährdet?
DESCRIPTION:Die Veranstaltung ist AUSGEBUCHT!Eine Analyse zu Ursachen von Rechtsentwicklungen in dieser Gesellschaft. Vortrag von Prof. Wilhelm Heitmeyer mit anschließendem Gespräch.Anmeldung/Info: susanne@fan-ini.de 
CLASS:PUBLIC
DTSTART;TZID=Europe/Berlin:20240124T190000
DTSTAMP:20060812T125900Z
END:VEVENT
END:VCALENDAR