BEGIN:VCALENDAR
VERSION:2.0
PRODID:http://www.gelsenkirchen.de
METHOD:PUBLISH
BEGIN:VTIMEZONE
TZID:Europe/Berlin
BEGIN:DAYLIGHT
TZOFFSETFROM:+0100
TZOFFSETTO:+0200
DTSTART:19810329T020000
RRULE:FREQ=YEARLY;BYMONTH=3;BYDAY=-1SU
TZNAME:CEST
END:DAYLIGHT
BEGIN:STANDARD
TZOFFSETFROM:+0200
TZOFFSETTO:+0100
DTSTART:19961027T030000
RRULE:FREQ=YEARLY;BYMONTH=10;BYDAY=-1SU
TZNAME:CET
END:STANDARD
END:VTIMEZONE
BEGIN:VEVENT
UID:74151
ORGANIZER;CN="Stadt Gelsenkirchen - Referat Kultur" :MAILTO:referat.kultur@gelsenkirchen.de
LOCATION:Kulturraum „die flora“, Florastraße 26, 45879 Gelsenkirchen
SUMMARY:Tim Holland liest
DESCRIPTION:Im Oktober endet für den Berliner Autor Tim Holland die dreimonatige Zeit als „writer in residence“ in Gelsenkirchen. In der Abschlusslesung mit Gespräch im Kulturraum „die flora“ erzählt Holland von seinen Erfahrungen und Erlebnissen, den Lesungen und Schreibwerkstätten sowie den Begegnungen in Gelsenkirchen. Welche Pläne haben sich umsetzen lassen? Was muss auf später verschoben werden? Und welche Spuren wird Gelsenkirchen in seinen Texten hinterlassen? Außerdem liest er aus den Texten, die in seiner Residenzzeit entstanden sind.Einlass ab 18:30 Uhr.Das dreimonatige Stipendium "writer in residence" wird 2023 für den Zeitraum vom 1. August bis zum 31. Oktober 2023 vergeben. Ermöglicht wird das Stipendium dank der Finanzierung durch die Gelsenwasser-Stiftung. Die Stadterneuerungsgesellschaft Gelsenkirchen (SEG) stellt eine Wohnung mietfrei zur Verfügung.
CLASS:PUBLIC
DTSTART;TZID=Europe/Berlin:20231017T190000
DTSTAMP:20060812T125900Z
END:VEVENT
END:VCALENDAR