BEGIN:VCALENDAR
VERSION:2.0
PRODID:http://www.gelsenkirchen.de
METHOD:PUBLISH
BEGIN:VTIMEZONE
TZID:Europe/Berlin
BEGIN:DAYLIGHT
TZOFFSETFROM:+0100
TZOFFSETTO:+0200
DTSTART:19810329T020000
RRULE:FREQ=YEARLY;BYMONTH=3;BYDAY=-1SU
TZNAME:CEST
END:DAYLIGHT
BEGIN:STANDARD
TZOFFSETFROM:+0200
TZOFFSETTO:+0100
DTSTART:19961027T030000
RRULE:FREQ=YEARLY;BYMONTH=10;BYDAY=-1SU
TZNAME:CET
END:STANDARD
END:VTIMEZONE
BEGIN:VEVENT
UID:74093
ORGANIZER;CN="Institut für Stadtgeschichte" :MAILTO:isg@gelsenkirchen.de
LOCATION:Kulturraum „die flora“, Florastraße 26, 45879 Gelsenkirchen
SUMMARY:Der Ruhrkampf – La Bataille de la Ruhr Französische Filmaufnahmen aus Westfalen und dem Rheinland 1921-1925
DESCRIPTION:Der legendäre Ruhrkampf jährt sich 2023 zum 100. Mal. Die Ereignisse damals haben die Welt bewegt – die Politik, die Wirtschaft und die Finanzmärkte. Über das nahezu vergessene Geschehen tauchten in den 1990er Jahren in den Archiven des Musée Albert Kahn in Boulogne/Paris seltene authentische Filmsequenzen auf. Das LWL-Medienzentrum für Westfalen hat auf der Grundlage dieses von französischen Kameramännern aufgenommenen Materials aus den Jahren 1921-1925 einen etwa 60-minütigen Film kompiliert und als DVD veröffentlicht. Ein Blick zurück in die Vergangenheit des Rhein- und Ruhrgebiets und der weiteren Regionen sollen die zeitgenössischen Filmbilder geben.
CLASS:PUBLIC
DTSTART;TZID=Europe/Berlin:20231018T180000
DTSTAMP:20060812T125900Z
END:VEVENT
END:VCALENDAR