BEGIN:VCALENDAR
VERSION:2.0
PRODID:http://www.gelsenkirchen.de
METHOD:PUBLISH
BEGIN:VTIMEZONE
TZID:Europe/Berlin
BEGIN:DAYLIGHT
TZOFFSETFROM:+0100
TZOFFSETTO:+0200
DTSTART:19810329T020000
RRULE:FREQ=YEARLY;BYMONTH=3;BYDAY=-1SU
TZNAME:CEST
END:DAYLIGHT
BEGIN:STANDARD
TZOFFSETFROM:+0200
TZOFFSETTO:+0100
DTSTART:19961027T030000
RRULE:FREQ=YEARLY;BYMONTH=10;BYDAY=-1SU
TZNAME:CET
END:STANDARD
END:VTIMEZONE
BEGIN:VEVENT
UID:74034
ORGANIZER;CN="Stadtbibliothek Gelsenkirchen" :MAILTO:stadtbibliothek@gelsenkirchen.de
LOCATION:Stadtteilbibliothek Horst, Turfstraße 21, 45899 Gelsenkirchen
SUMMARY:Carla Berling liest als Felicitas  Fuchs: Hanne. Die Leute gucken schon
DESCRIPTION:Die Familiengeschichte einer der beliebtesten deutschen Autorinnen.Minden 1951: Die dunklen Jahre des Krieges sind endlich vorbei. Allmählich kehrt Wohlstand ein. Hanne lebt mit ihrer Mutter Minna, die wieder als Schneiderin arbeitet, in einfachen Verhältnissen. Doch dann erkrankt Hanne an Tuberkulose. Immer wieder muss sie in die Lungenheilanstalt. Während ihre Altersgenossinnen sich für Rock ‘n‘ Roll, Lippenstifte und Petticoats interessieren, liebt Hanne es zu kochen, zu lesen, und sie träumt von einem starken Mann, der sie beschützt. Als sie sich in den smarten, viel älteren Paul Wagner zum ersten Mal verliebt, nimmt ihr Leben eine Wendung, die für immer alles verändert. Aber Minna will ihre Tochter Hanne um jeden Preis beschützen. Also fasst sie einen folgenschweren Plan.Karten und Infos bekommt man in der Stadtteilbibliothek Horst, Turfstr. 21, 45899 Gelsenkirchen oder unter 0209 169-6126.
CLASS:PUBLIC
DTSTART;TZID=Europe/Berlin:20231020T190000
DTSTAMP:20060812T125900Z
END:VEVENT
END:VCALENDAR