BEGIN:VCALENDAR
VERSION:2.0
PRODID:http://www.gelsenkirchen.de
METHOD:PUBLISH
BEGIN:VTIMEZONE
TZID:Europe/Berlin
BEGIN:DAYLIGHT
TZOFFSETFROM:+0100
TZOFFSETTO:+0200
DTSTART:19810329T020000
RRULE:FREQ=YEARLY;BYMONTH=3;BYDAY=-1SU
TZNAME:CEST
END:DAYLIGHT
BEGIN:STANDARD
TZOFFSETFROM:+0200
TZOFFSETTO:+0100
DTSTART:19961027T030000
RRULE:FREQ=YEARLY;BYMONTH=10;BYDAY=-1SU
TZNAME:CET
END:STANDARD
END:VTIMEZONE
BEGIN:VEVENT
UID:73732
ORGANIZER;CN="Wohnzimmer GE e.V." :MAILTO:info@wohnzimmer-ge.de
LOCATION:Wohnzimmer GE, Wilhelminenstraße 174b, 45881 Gelsenkirchen
SUMMARY:SPONK: Graffiti
DESCRIPTION:Städte in lebendige Wohlfühl-Orte zu verwandeln, hat der Graffiti-Künstler Sponk sich zur Aufgabe gemacht. Dafür erschafft er mit seinen Kunstwerken visuelle Erlebnisse, erzählt Geschichten und spricht kritische Themen an. SPONK, alias Dan Geffert, schafft Kunst, die für Langlebigkeit und Realismus steht. Er nutzt Graffiti und Airbrush-Mischtechniken, Malerei, Fotografie und Modellbau – wichtig ist ihm immer ein Detailreichtum.Öffnungszeiten: an den Veranstaltungstagen und auf AnfrageEintritt: frei - Hutspenden erbeten
CLASS:PUBLIC
DTSTART;TZID=Europe/Berlin:20230813
DTEND;TZID=Europe/Berlin:20231105
DTSTAMP:20060812T125900Z
END:VEVENT
END:VCALENDAR