BEGIN:VCALENDAR
VERSION:2.0
PRODID:http://www.gelsenkirchen.de
METHOD:PUBLISH
BEGIN:VTIMEZONE
TZID:Europe/Berlin
BEGIN:DAYLIGHT
TZOFFSETFROM:+0100
TZOFFSETTO:+0200
DTSTART:19810329T020000
RRULE:FREQ=YEARLY;BYMONTH=3;BYDAY=-1SU
TZNAME:CEST
END:DAYLIGHT
BEGIN:STANDARD
TZOFFSETFROM:+0200
TZOFFSETTO:+0100
DTSTART:19961027T030000
RRULE:FREQ=YEARLY;BYMONTH=10;BYDAY=-1SU
TZNAME:CET
END:STANDARD
END:VTIMEZONE
BEGIN:VEVENT
UID:73333
ORGANIZER;CN="Wissenschaftspark Gelsenkirchen" 
LOCATION:Wissenschaftspark, Munscheidstr. 14, 45886 Gelsenkirchen
SUMMARY:Pixelprojekt_Ruhrgebiet
DESCRIPTION:2003 wurde Pixelprojekt_Ruhrgebiet als freies Projekt in den Händen der Bildautorinnen und –autoren jenseits von Wissens- und Informationsmonopolisten gegründet. In dem Projekt geht es nicht nur um Information und Bildung, sondern um Erkenntnis durch Erkennen und Handeln durch Emotionalisierung. 2023 wächst das Projekt um weitere 21 Fotoserien von 22 Fotografinnen und Fotografen. Vierzehn von ihnen sind nun erstmals im Projekt vertreten. Mit den Neuaufnahmen besteht das Projekt nun aus 591 Fotoserien von insgesamt 360 Fotografinnen und Fotografen mit mehr als 10.000 Einzelbildern. Während mit jeder Fotoserie das Bild der Region facettenreicher wird, spiegeln die Bildideen den künstlerischen Umgang mit Inhalten in der jeweiligen Zeit. Es entsteht nach und nach nicht nur ein regionales fotografisches Gedächtnis, sondern auch ein Abriss der aktuellsten Fotogeschichte.Öffnungszeiten: Mo – Fr 8:00 – 17:30 Uhr, Info: 0209 167 1000
CLASS:PUBLIC
DTSTART;TZID=Europe/Berlin:20230616
DTEND;TZID=Europe/Berlin:20231030
DTSTAMP:20060812T125900Z
END:VEVENT
END:VCALENDAR