BEGIN:VCALENDAR
VERSION:2.0
PRODID:http://www.gelsenkirchen.de
METHOD:PUBLISH
BEGIN:VTIMEZONE
TZID:Europe/Berlin
BEGIN:DAYLIGHT
TZOFFSETFROM:+0100
TZOFFSETTO:+0200
DTSTART:19810329T020000
RRULE:FREQ=YEARLY;BYMONTH=3;BYDAY=-1SU
TZNAME:CEST
END:DAYLIGHT
BEGIN:STANDARD
TZOFFSETFROM:+0200
TZOFFSETTO:+0100
DTSTART:19961027T030000
RRULE:FREQ=YEARLY;BYMONTH=10;BYDAY=-1SU
TZNAME:CET
END:STANDARD
END:VTIMEZONE
BEGIN:VEVENT
UID:72841
ORGANIZER;CN="Stadtbibliothek Gelsenkirchen" :MAILTO:stadtbibliothek@gelsenkirchen.de
LOCATION:Stadtteilbibliothek Buer im Lindenkarree, Hochstraße 40-44, 45894 Gelsenkirchen
SUMMARY:Gisa Klönne liest "Für diesen Sommer"
DESCRIPTION:Die Bestsellerautorin Gisa Klönne wird aus ihrem neuen Familienroman "Für diesen Sommer" lesen. In dieser Familiengeschichte porträtiert sie zwei Generationen mit großer Wärme, erzählt von Hoffnung, Scheitern, verpassten Chancen und schwierigen Wegen. Die Veranstaltung wird gefördert durch Neustart Kultur, daher ist der Eintritt frei. Reservieren können Sie die Karten in Ihrer Stadtteilbibliothek, unter stadtbibliothek@gelsenkirchen.de oder unter 0209 169-4378.
CLASS:PUBLIC
DTSTART;TZID=Europe/Berlin:20230524T183000
DTEND;TZID=Europe/Berlin:20230524T210000
DTSTAMP:20060812T125900Z
END:VEVENT
END:VCALENDAR