BEGIN:VCALENDAR
VERSION:2.0
PRODID:http://www.gelsenkirchen.de
METHOD:PUBLISH
BEGIN:VTIMEZONE
TZID:Europe/Berlin
BEGIN:DAYLIGHT
TZOFFSETFROM:+0100
TZOFFSETTO:+0200
DTSTART:19810329T020000
RRULE:FREQ=YEARLY;BYMONTH=3;BYDAY=-1SU
TZNAME:CEST
END:DAYLIGHT
BEGIN:STANDARD
TZOFFSETFROM:+0200
TZOFFSETTO:+0100
DTSTART:19961027T030000
RRULE:FREQ=YEARLY;BYMONTH=10;BYDAY=-1SU
TZNAME:CET
END:STANDARD
END:VTIMEZONE
BEGIN:VEVENT
UID:71739
ORGANIZER;CN="ROR live – Rock Orchester Ruhrgebeat" 
LOCATION:Amphitheater Gelsenkirchen, Grothusstraße 201, 45883 Gelsenkirchen
SUMMARY:RockOrchester Ruhrgebeat
DESCRIPTION:Für das Rock Orchester Ruhrgebeat und seine Fans gehört das Amphitheater jedes Jahr zu den Konzert-Highlights im Kalender. Am Samstag, 09. September kommt die Megaband bereits zum elften Mal in den Nordsternpark und gehört damit schon längst zu den Stammgästen im Amphitheater.Für die ca. 30 Musiker ist dieser Auftritt immer das Highlight der gesamten Konzerttour, denn auf dieses „Heimspiel“ freuen sich alle ganz besonders:„Das Ambiente, die große Bühne die förmlich auf dem Wasser schwebt, sowie die vielen Sitzplätze im großen Rund, sind das Besondere hier“ schwärmen die Musiker des Orchesters, die aus dem ganzem Ruhrgebiet sternförmig zum Nordsternpark angereist kommen.
CLASS:PUBLIC
DTSTART;TZID=Europe/Berlin:20230909T190900
DTSTAMP:20060812T125900Z
END:VEVENT
END:VCALENDAR