BEGIN:VCALENDAR
VERSION:2.0
PRODID:http://www.gelsenkirchen.de
METHOD:PUBLISH
BEGIN:VTIMEZONE
TZID:Europe/Berlin
BEGIN:DAYLIGHT
TZOFFSETFROM:+0100
TZOFFSETTO:+0200
DTSTART:19810329T020000
RRULE:FREQ=YEARLY;BYMONTH=3;BYDAY=-1SU
TZNAME:CEST
END:DAYLIGHT
BEGIN:STANDARD
TZOFFSETFROM:+0200
TZOFFSETTO:+0100
DTSTART:19961027T030000
RRULE:FREQ=YEARLY;BYMONTH=10;BYDAY=-1SU
TZNAME:CET
END:STANDARD
END:VTIMEZONE
BEGIN:VEVENT
UID:71037
ORGANIZER;CN="GEjazzt e.V." :MAILTO:info@gejazzt.de
LOCATION:Kulturraum „die flora“, Florastraße 26, 45879 Gelsenkirchen
SUMMARY:„GEjazzt OPEN im Kulturraum „die flora“
DESCRIPTION:Erneut lädt GEjazzt-Mitglied Martin Furmann Musiker und Musikerinnen der hiesigen Jazzszene in den Kulturraum „die flora“ ein. Die Session begeistert seit Jahren durch die Vielfalt der Beteiligten und der Klangfarben – getreu dem Motto: Ein Konzert ohne Konventionen, ob Free, Modern, Electric – egal, Hauptsache, es groovt!GEjazzt wird gefördert durch die Volksbank Ruhr Mitte eG.Veranstalter: GEjazzt e. V. – Initiative zur Förderung des zeitgenössischen Jazz in Gelsenkirchen
CLASS:PUBLIC
DTSTART;TZID=Europe/Berlin:20230309T200000
DTSTAMP:20060812T125900Z
END:VEVENT
END:VCALENDAR