BEGIN:VCALENDAR
VERSION:2.0
PRODID:http://www.gelsenkirchen.de
METHOD:PUBLISH
BEGIN:VTIMEZONE
TZID:Europe/Berlin
BEGIN:DAYLIGHT
TZOFFSETFROM:+0100
TZOFFSETTO:+0200
DTSTART:19810329T020000
RRULE:FREQ=YEARLY;BYMONTH=3;BYDAY=-1SU
TZNAME:CEST
END:DAYLIGHT
BEGIN:STANDARD
TZOFFSETFROM:+0200
TZOFFSETTO:+0100
DTSTART:19961027T030000
RRULE:FREQ=YEARLY;BYMONTH=10;BYDAY=-1SU
TZNAME:CET
END:STANDARD
END:VTIMEZONE
BEGIN:VEVENT
UID:71009
ORGANIZER;CN="emschertainment GmbH" :MAILTO:info@emschertainment.de
LOCATION:Heilig Kreuz-Kirche, Bochumer Straße 115, 45886 Gelsenkirchen
SUMMARY:Johann König
DESCRIPTION:Johann König zog es eigentlich nie auf die Bühne. Er wollte Lehrer werden. Sportlehrer für Biologie und Sachkunde. Das war der Plan. Doch dieser Plan ging nicht auf. Nach 19 Semestern zwangen ihn die Zuschauer mit ihrer Zuneigung und ihrem Geld dazu, sich ganz dem Humor zu widmen. So geriet er geradewegs auf die schiefe Bahn der gepflegten Abendunterhaltung, von der es kein Zurück gibt. Und heute? Heute lacht er darüber – wie das Publikum über ihn.Fünfzig Jahre alt ist der Kerl, die depressive Stimmungskanone, nun. Viele sehen mit 50 jünger aus, fühlen sich aber älter. Beim König ist es genau umgekehrt. Viele denken mit 50, sie müssten alles ändern. Oder alles gendern. Johann macht alles neu UND bleibt sich treu. Viele fangen in diesem Alter an mit Eierlikör. Johann hat Hühner.In seinem neuen Programm stellt er die drängenden Fragen der Zeit: Wird das Haus wirklich kleiner, wenn die Kinder größer werden? Wie gendert man ein herrenloses Damenfahrrad?Gilt das Limit fürs Tempo auch für Taschentücher? Und darf man “was darf man eigentlich noch sagen?“ noch sagen?Langfristig sind die Vorhaben am besten, die kurzfristig sind. Der Plan sollte sein, keine Pläne mehr zu machen. Außer natürlich einen umfassenden Tour-Plan.
CLASS:PUBLIC
DTSTART;TZID=Europe/Berlin:20230312T190000
DTSTAMP:20060812T125900Z
END:VEVENT
END:VCALENDAR