BEGIN:VCALENDAR
VERSION:2.0
PRODID:http://www.gelsenkirchen.de
METHOD:PUBLISH
BEGIN:VTIMEZONE
TZID:Europe/Berlin
BEGIN:DAYLIGHT
TZOFFSETFROM:+0100
TZOFFSETTO:+0200
DTSTART:19810329T020000
RRULE:FREQ=YEARLY;BYMONTH=3;BYDAY=-1SU
TZNAME:CEST
END:DAYLIGHT
BEGIN:STANDARD
TZOFFSETFROM:+0200
TZOFFSETTO:+0100
DTSTART:19961027T030000
RRULE:FREQ=YEARLY;BYMONTH=10;BYDAY=-1SU
TZNAME:CET
END:STANDARD
END:VTIMEZONE
BEGIN:VEVENT
UID:69061
ORGANIZER;CN="Kommunales Kino (KoKi)" 
LOCATION:Schauburg Filmpalast, Horster Straße 6, 45897 Gelsenkirchen
SUMMARY:Tenor: Eine Stimme - Zwei Welten
DESCRIPTION:Komödie von Claude Zidi Jr., Raphaël Benoliel und Cyrille Droux mit Michèle Laroque, Mohamed Belkhir (MB 14), Guillaume Duhesme, Maëva El Aroussi, Samir Decazza, Marie Oppert u. a.; F 2022, 101 Min.; FSK: ab 12 J.Antoine (Mohamed Belkhir aka MB 14) ist ein talentierter Rapper aus der Pariser Banlieue, der als Kurier für einen Sushi-Lieferdienst jobbt. Eines Tages führt ihn eine Bestellung zur prachtvollen Opéra Garnier. Dort demonstriert er kurz und ohne Hintergedanken seine beachtliche Tenorstimme, was die Gesangslehrerin Madame Loyseau (Michèle Laroque) aufhorchen lässt. Sie kann den jungen Mann davon überzeugen, Unterricht bei ihr zu nehmen. Den Kurs will Antoine vor seinem Umfeld unbedingt geheim halten, und so stürzt er sich in ein Doppelleben zwischen zwei Welten."Ob und wie Antoine zur klassischen Musik und zur Oper findet, das ist (hier) gar nicht so sehr das Hauptthema. (Im Mittelpunkt der Tragikkomödie von Claude Zidi Jr. stehen vielmehr) die Gegensätze zwischen Arm und Reich, die Zwänge und Klischees, denen beide Seiten unterworfen sind. Wenn es um die Verbindung von ernsthaften sozialen Themen mit Humor und moderner Kinounterhaltung geht, liegen die französischen Filmschaffenden zurzeit ganz weit vorne. Und sie können es eben auch richtig gut - mit Eleganz und Esprit, mit Spaß, Dramatik und opulenten Bildern. Ein Fest für alle Sinne!"Präsentiert in der KoKi-Filmreihe "Künstlerinnen und Künstler".
CLASS:PUBLIC
DTSTART;TZID=Europe/Berlin:20230129T124500
DTSTAMP:20060812T125900Z
END:VEVENT
END:VCALENDAR