BEGIN:VCALENDAR
VERSION:2.0
PRODID:http://www.gelsenkirchen.de
METHOD:PUBLISH
BEGIN:VTIMEZONE
TZID:Europe/Berlin
BEGIN:DAYLIGHT
TZOFFSETFROM:+0100
TZOFFSETTO:+0200
DTSTART:19810329T020000
RRULE:FREQ=YEARLY;BYMONTH=3;BYDAY=-1SU
TZNAME:CEST
END:DAYLIGHT
BEGIN:STANDARD
TZOFFSETFROM:+0200
TZOFFSETTO:+0100
DTSTART:19961027T030000
RRULE:FREQ=YEARLY;BYMONTH=10;BYDAY=-1SU
TZNAME:CET
END:STANDARD
END:VTIMEZONE
BEGIN:VEVENT
UID:68494
ORGANIZER;CN="Café  Albring-Rüdel" :MAILTO:kontakt@feinetorten.de
LOCATION:Café Albring-Rüdel, Ophofstr. 7, 45894 Gelsenkirchen
SUMMARY:Anke Sieloff
DESCRIPTION:Anke Sieloff nimmt uns mit auf eine nachdenklich-besinnliche sowie lebensbejahende- musikalische Reise in der Adeventszeit. Neben klassischen Adeventsliedern zum Mitsingen wird auch die " Zeit im Wandel " musikalisch betrachtet.
CLASS:PUBLIC
DTSTART;TZID=Europe/Berlin:20221211
DTEND;TZID=Europe/Berlin:20221213
DTSTAMP:20060812T125900Z
END:VEVENT
END:VCALENDAR