BEGIN:VCALENDAR
VERSION:2.0
PRODID:http://www.gelsenkirchen.de
METHOD:PUBLISH
BEGIN:VTIMEZONE
TZID:Europe/Berlin
BEGIN:DAYLIGHT
TZOFFSETFROM:+0100
TZOFFSETTO:+0200
DTSTART:19810329T020000
RRULE:FREQ=YEARLY;BYMONTH=3;BYDAY=-1SU
TZNAME:CEST
END:DAYLIGHT
BEGIN:STANDARD
TZOFFSETFROM:+0200
TZOFFSETTO:+0100
DTSTART:19961027T030000
RRULE:FREQ=YEARLY;BYMONTH=10;BYDAY=-1SU
TZNAME:CET
END:STANDARD
END:VTIMEZONE
BEGIN:VEVENT
UID:68238
ORGANIZER;CN="Stadt Gelsenkirchen - Kulturraum „die flora“" :MAILTO:flora@gelsenkirchen.de
LOCATION:Kulturraum „die flora“, Florastraße 26, 45879 Gelsenkirchen
SUMMARY:[AUSVERKAUFT!] „Die 68-Bewegung in der Türkei“/ „DAĞCILAR“
DESCRIPTION:[AUSVERKAUFT!]Can Dündar, seit 2016 in Berlin lebender türkischer Journalist, stellt sein neues Buch über die 68er Bewegung in der Türkei vor. Gemeinsam mit dem damaligen Aktivisten Atilla Keskin, den er für das Buch interviewt hat, wird er über diese spannende und wichtige historische Zeit in der Türkei berichten.In keinem Monat der neueren, türkischen Geschichte wurde mehr demonstriert als im Mai 1968. Bis heute klingen die Forderungen nach einer radikalen Umwandlung der bestehenden Verhältnisse utopisch nach. Von den Hoffnungen jener Zeit, aber auch von staatlicher Gewalt als Antwort auf eine neue, emanzipierte Generation wird an diesem Abend eindrucksvoll berichtet. Im Gedenken zum 50. Jahrestag der Hinrichtung der Revolutionäre Deniz Gezmiş, Hüseyin İnan und Yusuf Aslan werden ihre Forderungen nach Solidarität und Demokratie für die oft zu Pessimismus einladende Gegenwart aktualisiert.Das neue Buch DAĞCILAR von Can Dündar basiert auf den Erinnerungen von Atilla Keskin, einer führenden Figur der 68er-Bewegung in der Türkei und der türkischen Volksbefreiungsarmee, der revolutionären Organisation der damaligen Zeit. DAĞCILAR ist nicht nur das Narrativ eines Revolutionärs, der sein Leben für seine Ideale geopfert hat, sondern auch der Generation, die für ihren Glauben den Tod riskierte. Atilla Keskin war 2008 schon einmal im Kulturraum „die flora“ zu Gast.Nach der Lesung (Türkisch mit deutschen Zusammenfassungen) schließt sich ein Gespräch zwischen Can Dündar und Atilla Keskin an, das sich auch den Fragen und Bemerkungen des Publikums öffnet. Die Veranstaltung wird durch Bora Sahin (Gelsenkirchen) moderiert und übersetzt.TÜRKİYE'DE ’68 HAREKETİ‹ KİTAP TANITIMI ›DAĞCILAR‹Türkiye’nin yakın tarihinde 1968 yılının Mayıs ayı dönemin mevcut koşullarına isyanın doruk noktasına ulaştığı aydır. O dönemin radikal dönüşüm talepleri bugüne bir ütopi olarak yansımaktadır. Türkiye’deki ‘68 kuşağının umutları ne yazık ki devlet şiddetiyle bastırıldı. Bu etkinkikle, hareketin öncülerinden Deniz Gezmiş, Hüseyin İnan ve Yusuf Aslan’ın idamlarının 50. yıl dönümünde, karamsarlığa adeta davet çıkaran şimdiki zamanda, dayanışma ve demokrasi taleplerini yenilemek istiyoruz. Can Dündar tarafından hazırlanan DELİKANLIM –Can Dündar’ın yeni kitabı DAĞCILAR, 1968 hareketinin ve dönemin devrimci örgütü Türkiye Halk Kurtuluş Ordusu’nun önde gelen isimlerinden Atilla Keskin’in anılarından oluşuyor. DAĞCILAR, sadece idealleri uğruna hayatını gözden çıkaran bir devrimcinin değil, inançları için ölümü göze alan kuşağın anlatısı.Veranstalter: Demokratischer Kulturverein Gelsenkirchen in Kooperation mit dem Kulturraum „die flora“
CLASS:PUBLIC
DTSTART;TZID=Europe/Berlin:20221017T190000
DTSTAMP:20060812T125900Z
END:VEVENT
END:VCALENDAR