BEGIN:VCALENDAR
VERSION:2.0
PRODID:http://www.gelsenkirchen.de
METHOD:PUBLISH
BEGIN:VTIMEZONE
TZID:Europe/Berlin
BEGIN:DAYLIGHT
TZOFFSETFROM:+0100
TZOFFSETTO:+0200
DTSTART:19810329T020000
RRULE:FREQ=YEARLY;BYMONTH=3;BYDAY=-1SU
TZNAME:CEST
END:DAYLIGHT
BEGIN:STANDARD
TZOFFSETFROM:+0200
TZOFFSETTO:+0100
DTSTART:19961027T030000
RRULE:FREQ=YEARLY;BYMONTH=10;BYDAY=-1SU
TZNAME:CET
END:STANDARD
END:VTIMEZONE
BEGIN:VEVENT
UID:68073
ORGANIZER;CN="Kunstmuseum Gelsenkirchen" :MAILTO:kunstmuseum@gelsenkirchen.de
LOCATION:Kunstmuseum Gelsenkirchen, Horster Straße 5-7, 45897 Gelsenkirchen
SUMMARY:AUS DEM NICHTS - Gelsenkirchen und die städtische Kunstsammlung im Spiegel der Kunstszene von 1950 bis 1975
DESCRIPTION:Für Gelsenkirchen Stadt der tausend Feuer markiert der Zeitraum zwischen 1950 und 1975 eine Zeit des Aufbruchs, aber auch starker Veränderungen. Die Ausstellung erzählt daher unterschiedliche und vielfältige Geschichten: Die der städtischen Kunstsammlung und des Museums, die einer Industriestadt mit ihren Umbrüchen und ihrem Niedergang. Die Geschichte einer avantgardistischen Kunstszene und letztlich die Geschichten von Bürgerinnen und Bürgern, Akteurinnen und Akteuren. In einer analog und digital angelegten Sonderausstellung wird den Besucherinnen und Besuchern ermöglicht, zusätzlich zu den zeitgenössischen Kunstwerken über unterschiedliche Medien, wie Zeitzeugen-Interviews, Archivmaterial, diese Zeit (wieder) erfahren zu können.
CLASS:PUBLIC
DTSTART;TZID=Europe/Berlin:20220917
DTEND;TZID=Europe/Berlin:20230131
DTSTAMP:20060812T125900Z
END:VEVENT
END:VCALENDAR