BEGIN:VCALENDAR
VERSION:2.0
PRODID:http://www.gelsenkirchen.de
METHOD:PUBLISH
BEGIN:VTIMEZONE
TZID:Europe/Berlin
BEGIN:DAYLIGHT
TZOFFSETFROM:+0100
TZOFFSETTO:+0200
DTSTART:19810329T020000
RRULE:FREQ=YEARLY;BYMONTH=3;BYDAY=-1SU
TZNAME:CEST
END:DAYLIGHT
BEGIN:STANDARD
TZOFFSETFROM:+0200
TZOFFSETTO:+0100
DTSTART:19961027T030000
RRULE:FREQ=YEARLY;BYMONTH=10;BYDAY=-1SU
TZNAME:CET
END:STANDARD
END:VTIMEZONE
BEGIN:VEVENT
UID:68050
ORGANIZER;CN="Stadt Gelsenkirchen - Kulturraum „die flora“" :MAILTO:flora@gelsenkirchen.de
LOCATION:Kulturraum „die flora“, Florastraße 26, 45879 Gelsenkirchen
SUMMARY:„Cecilia Castagneto und Ensemble Lux: Frauen im Licht“
DESCRIPTION:Die Idee für das Konzert „Frauen im Licht“ stammt von der Dirigentin Cecilia Castagneto. Zusammen mit den Videokünstler*innen arrangierte sie ein interdisziplinäres Projekt aus Musik und Videosequenzen, das Frauen und ihr künstlerisches Schaffen in den Mittelpunkt stellt. Denn trotz aller Fortschritte hat die lange Zeit männlicher Vorherrschaft in der Musikbranche ihre Spuren hinterlassen.Cecilia Castagneto bietet mit dem Konzert fünf zeitgenössischen Komponistinnen eine Plattform, um sich und ihre Musik der Öffentlichkeit zu präsentieren. Für die Aufführung wurde eigens ein Ensemble – das Ensemble Lux – zusammengestellt. Zwischen den Musikstücken begleitet das Publikum die jeweilige Komponistin durch ein Videoporträt bei ihrer täglichen Arbeit. Die Videos entstanden in der engagierten Zusammenarbeit mit den Videokünstler*innen Julia Charakter und Jonas Eckert, die ein sehr persönliches und eindrucksvolles Bild der Musikerinnen kreierten.Der Abend ist Fanny Hensel (geb. Mendelssohn), der Schwester und engen Vertrauten des Komponisten Felix Mendelssohn Bartholdy, gewidmet. Ihr großes Talent konnte sie zu ihrer Zeit nicht auf öffentlichen Bühnen präsentieren. „Frauen im Licht“ zeigt die vielschichtigen Facetten und Talente dieser bemerkenswerten Musikerin.Programm:Fanny Mendelssohn – Videoporträt  „Liebste Fenchel"Cecilia Pereyra (Argentinien) – VideoporträtWerk: „En este instante"Mijin Oh (Südkorea) – VideoporträtWerk: „Mein Zuhause"Akiko Yamane (Japan)  – VideoporträtWerk: „Kitsch mandala kawaii"Tamara Miller (Chile) – VideoporträtWerk: „Digressing"Dariya Maminova (Russland) – VideoporträtWerk: „Microstories"Ensemble „Lux": Alexander Maczewski (Marimba); Liz Hirst (Flöte); Jan Wilhelm Bennefeld (Klarinette); Ghislain Portier (Cello); Oleguer Beltran Pallares (Violine)Dirigentin: Cecilia CastagnetoRegisseure/Videokünstler*innen: Julia Charakter und Jonas Eckert („Charakterfilm", Köln)Film Argentinien: Matias PiccininiFilm Japan: Minami GotoFilm Fanny Mendelssohn: Hannes KleinschmidtInitiatorin/Konzept: Cecilia CastagnetoMit diesem Konzert endet die Kammerkonzertreihe des Kulturraums „die flora“, die dieses Jahr das Begriffspaar „Schatten und Licht“ in der Musik stellt. Es durchzieht die Programmatik der drei Konzerte und lässt so Kontraste und Wechselwirkungen des Einen im Anderen entstehen. Zugleich greift es die durch Pandemie, durch Krieg, durch Bedrohung demokratischer Prozesse gedrückte gesellschaftliche Stimmung auf und formuliert den Wunsch nach positiver Veränderung. Künstlerischer Leiter der Reihe ist seit 2015 der Gelsenkirchener Komponist Michael Em Walter. Das Eröffnungskonzert fand am 04.09.2022 mit dem Ensemble INTERSTELLAR 2 2 7, das Oktoberkonzert (02.10.) führt das Streichtrio 3CORDES aus.Veranstalter: Kulturraum „die flora“
CLASS:PUBLIC
DTSTART;TZID=Europe/Berlin:20221106T170000
DTSTAMP:20060812T125900Z
END:VEVENT
END:VCALENDAR