BEGIN:VCALENDAR
VERSION:2.0
PRODID:http://www.gelsenkirchen.de
METHOD:PUBLISH
BEGIN:VTIMEZONE
TZID:Europe/Berlin
BEGIN:DAYLIGHT
TZOFFSETFROM:+0100
TZOFFSETTO:+0200
DTSTART:19810329T020000
RRULE:FREQ=YEARLY;BYMONTH=3;BYDAY=-1SU
TZNAME:CEST
END:DAYLIGHT
BEGIN:STANDARD
TZOFFSETFROM:+0200
TZOFFSETTO:+0100
DTSTART:19961027T030000
RRULE:FREQ=YEARLY;BYMONTH=10;BYDAY=-1SU
TZNAME:CET
END:STANDARD
END:VTIMEZONE
BEGIN:VEVENT
UID:68031
ORGANIZER;CN="Stadt Gelsenkirchen - Kulturraum „die flora“" :MAILTO:flora@gelsenkirchen.de
LOCATION:Kulturraum „die flora“, Florastraße 26, 45879 Gelsenkirchen
SUMMARY:„tin*stories “Trans | inter | nicht-binäre Geschichte(n) seit 1900“
DESCRIPTION:Der Sammelband „tin*stories“ macht trans*, inter* und nichtbinäre Geschichte in Deutschland seit 1900 sichtbar. Ein Blick in die Geschichte von trans*, inter* und nichtbinären Menschen zeigt, dass tin* sein nichts Vorübergehendes oder gar Neues ist. Das zeigt beispielhaft Liddy Bacroff, die ihre Erfahrung der Verfolgung als trans* Frau und Sexarbeiter*in im Nationalsozialismus niederschrieb. Orlando Meier-Brix und Joy Reißner veröffentlichen in ihrem ehrenamtlich herausgegebenen Sammelband tin*Geschichten von 18 Autor*innen, die sich in Essays, autobiographischen Erzählungen, lyrischen Texten und Interviews auf Spurensuche begeben. Mitunter werden auch persönliche Erfahrungen den Leser*innen zugänglich gemacht. Die beiden Initiator*innen lesen aus der Publikation vor. Sie berührt, kann zum Nachdenken anregen und ermutigen und umfasst viel mehr als nur private Erzählungen.Orlando Meier-Brix forscht und betreibt Bildungsarbeit mit Fokus auf queere und jüdische Geschichte; Joy Reißner queert Sprach-/Literaturwissenschaft und vermittelt zum Thema tin* und Erinnerungskultur.Die Lesung findet am internationalen „Transgender Day of Remembrance“ („Tag der Erinnerung an die Opfer von Trans*feindlichkeit“) statt. Sie beschließt die queere Veranstaltungsreihe „SAGA: Sexual And Gender Acceptance. Legenden beginnen zu Hause“, in der LSBTQ*-Personen über ihr Leben erzählen.Weitere Termine der Reihe:29. September 2022, 19:30 Uhr: „Queere Welten. Literarische Reisen nach Israel und Russland.“ - Lesung mit dem aktuellen writer in residence in Gelsenkirchen, Gabriel Wolkenfeld.20. Oktober 2022, 19:30 Uhr: „Zwischen Lebensglück und Repression – Lesbisch, Schwul, Bisexuell, Trans* in Nordrhein-Westfalen. Zeitzeug*innen erinnern sich.“ - Filmische Portraits.Veranstalter: Kulturraum „die flora"
CLASS:PUBLIC
DTSTART;TZID=Europe/Berlin:20221120T180000
DTSTAMP:20060812T125900Z
END:VEVENT
END:VCALENDAR