BEGIN:VCALENDAR
VERSION:2.0
PRODID:http://www.gelsenkirchen.de
METHOD:PUBLISH
BEGIN:VTIMEZONE
TZID:Europe/Berlin
BEGIN:DAYLIGHT
TZOFFSETFROM:+0100
TZOFFSETTO:+0200
DTSTART:19810329T020000
RRULE:FREQ=YEARLY;BYMONTH=3;BYDAY=-1SU
TZNAME:CEST
END:DAYLIGHT
BEGIN:STANDARD
TZOFFSETFROM:+0200
TZOFFSETTO:+0100
DTSTART:19961027T030000
RRULE:FREQ=YEARLY;BYMONTH=10;BYDAY=-1SU
TZNAME:CET
END:STANDARD
END:VTIMEZONE
BEGIN:VEVENT
UID:67985
ORGANIZER;CN="Stadt Gelsenkirchen - Kulturraum „die flora“" :MAILTO:flora@gelsenkirchen.de
LOCATION:Kulturraum „die flora“, Florastraße 26, 45879 Gelsenkirchen
SUMMARY:„Queere Welten. Literarische Reisen nach Israel und Russland.“
DESCRIPTION:Der weitgereiste Autor aus Berlin erkundet seit Juli Gelsenkirchen und das Ruhrgebiet auf den Spuren hier lebender Menschen und ihrer interessanten Biografien. Als writer in residence wird Gabriel Wolkenfeld (geb. 1985) seine Begegnungen mit ihnen literarisch in Prosaminiaturen festhalten. Auch in seinen Veröffentlichungen ist er immer nah dran an der Vielfältigkeit von Lebensentwürfen und -erfahrungen. Sein jüngstes Werk, das „Babylonisches Repertoire“, erzählt die Geschichte einer jüdischen Familie über drei Generationen und Ländergrenzen hinweg, einsetzend in Litauen vor dem Krieg über Usbekistan und Sowjetrussland bis ins Israel der Gegenwart. In „Wir Propagandisten“ steht die Realität von Schwulen in Russland im Mittelpunkt, weitere Erzählungen und Poesie kreisen um Identität, Gender, Erinnerungskulturen und Menschenrechte. Gemeinsam im Gespräch mit Moderatorin Andrea Rohmert (Referat Kultur) wird er seine Eindrücke zur Ruhr-Region schildern, über seine Begegnungen mit den Menschen vor Ort sprechen, über den besonderen Stellenwert, den gleichberechtigte Lebenschancen und Vielfalt in unserer Gesellschaft haben (sollten). Mit dieser Lesung eröffnet der Kulturraum „die flora“ eine dreiteilige queere Veranstaltungsreihe – offen für alle: „SAGA: Sexual And Gender Acceptance. Legenden beginnen zu Hause“, in der LSBTQ*-Personen über ihr Leben erzählen.Weitere Termine der Reihe:20. Oktober 2022, 19:30 Uhr: „Zwischen Lebensglück und Repression – Lesbisch, Schwul, Bisexuell, Trans* in Nordrhein-Westfalen. Zeitzeug*innen erinnern sich.“ - Filmische Portraits.20. November 2022, 18:00 Uhr: „tin*stories “Trans | inter | nicht-binäre Geschichte(n) seit 1900“ - Lesung mit Orlando Meier-Brix und Joy Reißner.Veranstalter: Kulturraum „die flora"
CLASS:PUBLIC
DTSTART;TZID=Europe/Berlin:20220929T193000
DTSTAMP:20060812T125900Z
END:VEVENT
END:VCALENDAR