BEGIN:VCALENDAR
VERSION:2.0
PRODID:http://www.gelsenkirchen.de
METHOD:PUBLISH
BEGIN:VTIMEZONE
TZID:Europe/Berlin
BEGIN:DAYLIGHT
TZOFFSETFROM:+0100
TZOFFSETTO:+0200
DTSTART:19810329T020000
RRULE:FREQ=YEARLY;BYMONTH=3;BYDAY=-1SU
TZNAME:CEST
END:DAYLIGHT
BEGIN:STANDARD
TZOFFSETFROM:+0200
TZOFFSETTO:+0100
DTSTART:19961027T030000
RRULE:FREQ=YEARLY;BYMONTH=10;BYDAY=-1SU
TZNAME:CET
END:STANDARD
END:VTIMEZONE
BEGIN:VEVENT
UID:67975
ORGANIZER;CN="Stadt Gelsenkirchen - Kulturraum „die flora“" :MAILTO:flora@gelsenkirchen.de
LOCATION:Kulturraum „die flora“, Florastraße 26, 45879 Gelsenkirchen
SUMMARY:„Im tastenden Bogen“
DESCRIPTION:Der Pianist und Geiger Kolja Lessing blickt in seinem jüngst erschienenen Essayband „Im tastenden Bogen“ auf ein reichhaltiges und vielseitiges Musik(er-)leben. Seine literarischen Erinnerungen sind voller Entdeckungen, vom Barock bis zur Corona-Krise, von Kanada bis Israel, auch mit verschmitzten Blicken hinter die Kulissen des Musikbetriebs. Als weltweit konzertierender Musiker ebenso wie als forschender Musiker hat er sich u. a. intensiv mit der Musik jüdischer Komponistinnen und Komponisten befasst und mit der Exilthematik in der Musik – Themen, mit denen er auch 2021 zur Konzertreihe „Wie sich die Zeit verzweigt“ im Kulturraum „die flora“ zu Gast war. Doch bei allem fachlich-historischen Hintergrund kommt der Humor, die Glosse, auch die Leichtigkeit der Musik bei seiner Buchpräsentation keinesfalls zu kurz. Seine Ausführungen untermalt er selbst an Klavier und Geige. Das Buch sowie auch CD’s des Musikers können vor Ort erworben werden.BiografieKolja Lessing, einer der vielseitigsten Musiker unserer Zeit, hat als Geiger wie als Pianist durch die Verbindung von interpretatorischer und wissenschaftlicher Arbeit dem Musikleben prägende Impulse verliehen. Er brachte Georg Philipp Telemanns ViolinfantasiInterpretationen und Johann Paul Westhoffs Violinsuiten ebenso in den Konzertsaal zurück wie bedeutende Klavierwerke des 20. Jahrhunderts, u. a. von Philipp Jarnach, Ignace Strasfogel und Wladimir Vogel. 1999 erhielt er den Johann-Wenzel-Stamitz-Sonderpreis, 2008 wurde er mit dem Deutschen Kritikerpreis ausgezeichnet. Zahlreiche Uraufführungen von eigens für ihn geschriebenen Violinwerken (Haim Alexander, Tzvi Avni, Abel Ehrlich, Jacqueline Fontyn, Berthold Goldschmidt, Ursula Mamlok, Dimitri Terzakis) spiegeln sein internationales Renommee ebenso wider wie regelmäßige Einladungen zu Meisterkursen in Europa und Nordamerika. Seit 2000 ist er Professor für Violine und Kammermusik an der Musikhochschule Stuttgart.Veranstalter: Kulturraum „die flora“
CLASS:PUBLIC
DTSTART;TZID=Europe/Berlin:20220918T170000
DTSTAMP:20060812T125900Z
END:VEVENT
END:VCALENDAR