BEGIN:VCALENDAR
VERSION:2.0
PRODID:http://www.gelsenkirchen.de
METHOD:PUBLISH
BEGIN:VTIMEZONE
TZID:Europe/Berlin
BEGIN:DAYLIGHT
TZOFFSETFROM:+0100
TZOFFSETTO:+0200
DTSTART:19810329T020000
RRULE:FREQ=YEARLY;BYMONTH=3;BYDAY=-1SU
TZNAME:CEST
END:DAYLIGHT
BEGIN:STANDARD
TZOFFSETFROM:+0200
TZOFFSETTO:+0100
DTSTART:19961027T030000
RRULE:FREQ=YEARLY;BYMONTH=10;BYDAY=-1SU
TZNAME:CET
END:STANDARD
END:VTIMEZONE
BEGIN:VEVENT
UID:67962
ORGANIZER;CN="Westfälisches Literaturbüro in Unna e.V." 
LOCATION:Schauburg Filmpalast, Horster Straße 6, 45897 Gelsenkirchen
SUMMARY:Mord am Hellweg - Martin Walker
DESCRIPTION:Seit 2008 lässt der gebürtige Schotte Martin Walker den Polizisten Bruno Courrèges, genannt Bruno, als "Chef de Police" in der romantischen Region Périgord im Südwesten Frankreichs ermitteln. Walker ist regelmäßig mit neuen Fällen des Kommissars im Bestseller Ranking vertreten. Seine "Bruno"-Romane erscheinen in fünfzehn Sprachen. An diesem Abend hat er seinen vierzehnten, brandaktuellen Fall für den Kult-Ermittler im Gepäck, der im Frühjahr 2022 erscheinen ist. In "Tête-à-Tête" ermittelt Bruno Courrèges in einem alten Mordfall, der ihn nie losgelassen hat. Ein absolutes Vergnügen! Moderiert wird diese Veranstaltung von Antje Deistler, Kulturjournalistin, Moderatorin, Literaturkritikerin und -vermittlerin, Krimiexpertin und seit 2018 Leiterin des Literaturbüros Ruhr.Walkers deutsche Lesestimme ist Dietmar Bär.Dietmar Bär ist in Dortmund geboren und entdeckte bereits während der Schulzeit seine Leidenschaft für die darstellenden Künste. Er nahm an verschiedenen Schultheaterprojekten teil und war Teil der Punkband „Planlos durch die 80er“. Nach seinem Schulabschluss absolvierte er eine Ausbildung an der Westfälischen Schauspielschule in Bochum.Bereits während der Schauspielausbildung hatte Bär sein Filmdebüt und kurze Zeit später ist er im Duisburger Tatort zu sehen, noch nicht als Ermittler, sondern als der Hooligan Ernst. Von 1885 bis 1997 war er bei verschiedenen Film- und Fernsehproduktionen tätig.Seit 1997 spielt er den Tatort-Ermittler Freddy Schenk in Köln. Bis heute ist er Teil des Kölner Tatort-Teams. An der Seite von Kommissar Max Ballauf (gespielt von Klaus J. Behrendt) löste er bereits 84 Fälle und erreichte große Beliebtheit.Der Schauburg Filmpalast ist einer der letzten klassischen Kinopaläste Deutschlands. Das schon 1929 erbaute Gebäude bietet ein außergewöhnliches Ambiente, nicht nur für das aktuelle Programm, sondern auch für ein vielfältiges Angebot unterschiedlichster Kino- und Kulturveranstaltungen.
CLASS:PUBLIC
DTSTART;TZID=Europe/Berlin:20221027T193000
DTSTAMP:20060812T125900Z
END:VEVENT
END:VCALENDAR