BEGIN:VCALENDAR
VERSION:2.0
PRODID:http://www.gelsenkirchen.de
METHOD:PUBLISH
BEGIN:VTIMEZONE
TZID:Europe/Berlin
BEGIN:DAYLIGHT
TZOFFSETFROM:+0100
TZOFFSETTO:+0200
DTSTART:19810329T020000
RRULE:FREQ=YEARLY;BYMONTH=3;BYDAY=-1SU
TZNAME:CEST
END:DAYLIGHT
BEGIN:STANDARD
TZOFFSETFROM:+0200
TZOFFSETTO:+0100
DTSTART:19961027T030000
RRULE:FREQ=YEARLY;BYMONTH=10;BYDAY=-1SU
TZNAME:CET
END:STANDARD
END:VTIMEZONE
BEGIN:VEVENT
UID:67852
ORGANIZER;CN="Stadtbibliothek Gelsenkirchen - Kinderbibliothek" 
LOCATION:Stadtbibliothek Gelsenkirchen - Kinderbibliothek, Ebertstraße 19, 45879 Gelsenkirchen
SUMMARY:Sketchnote-Workshop mit Charlotte Hofmann
DESCRIPTION:Dann bist du in diesem Kurs genau richtig: "Sketchnotes" setzt sich aus den Worten "Sketch" (englisch Skizze) und Note (Notiz) zusammen und sind gezeichnete Notizen, die aus Texten und Bildern bestehen. Die Kursleiterin Charlotte Hofmann zeigt euch Tipps und Tricks, wie mit wenigen Strichen Figuren, Gesichter und Gegenstände auf dem Papier lebendig werden. Stifte und Papier bringt Charlotte mit. Diese Ferienaktion findet im Rahmen des Kulturrucksacks statt.Begrenzte Teilnehmerzahl, daher Anmeldung unter 0209 169 2817 notwendig.
CLASS:PUBLIC
DTSTART;TZID=Europe/Berlin:20220714T100000
DTEND;TZID=Europe/Berlin:20220714T120000
DTSTAMP:20060812T125900Z
END:VEVENT
END:VCALENDAR