BEGIN:VCALENDAR
VERSION:2.0
PRODID:http://www.gelsenkirchen.de
METHOD:PUBLISH
BEGIN:VTIMEZONE
TZID:Europe/Berlin
BEGIN:DAYLIGHT
TZOFFSETFROM:+0100
TZOFFSETTO:+0200
DTSTART:19810329T020000
RRULE:FREQ=YEARLY;BYMONTH=3;BYDAY=-1SU
TZNAME:CEST
END:DAYLIGHT
BEGIN:STANDARD
TZOFFSETFROM:+0200
TZOFFSETTO:+0100
DTSTART:19961027T030000
RRULE:FREQ=YEARLY;BYMONTH=10;BYDAY=-1SU
TZNAME:CET
END:STANDARD
END:VTIMEZONE
BEGIN:VEVENT
UID:67851
ORGANIZER;CN="Stadtbibliothek Gelsenkirchen" :MAILTO:stadtbibliothek@gelsenkirchen.de
LOCATION:Stadtteilbibliothek Horst, Turfstraße 21, 45899 Gelsenkirchen
SUMMARY:Debüt im Schloss mit Neo Overstreet  - „Ruhrpott im Herzen“
DESCRIPTION:“Neo wächst im Herzen des Ruhrpotts, zwischen Halden und Zechen, Schrebergärten und Industriebrachen auf. Im Rausch des Geistes der Nachwendezeit, durchlebt er seine Jugend inmitten der 90er Jahre. Er erlebt die erste große Liebe, den ersten großen Schmerz, unverhoffte Begegnungen und unerfüllte Träume. Er entdeckt seine Leidenschaft für die Kunst und versucht sich im Spagat zwischen gesellschaftlichen Konventionen und einer beginnenden Musikerkarriere. Immer wieder trifft er dabei auf sich selbst, kehrt ein und wächst an dem Erlebten. Manchmal droht er an sich selber zu zerbrechen, verliert jedoch nie den Blick nach vorne. Und immer wieder betrachtet er die wilde Schönheit des Ruhrgebiets aus dem ganz eigenen Blickwinkel seiner Generation X."Ein autobiographischer Roman, eine poetische Liebeserklärung an das Ruhrgebiet und ein liebevoller Gruß an ein Jahrzehnt des Wandels und des Aufbruchs.Anmeldung und weitere Informationen unter: 0209 169 6126 https://www.neooverstreet.de/
CLASS:PUBLIC
DTSTART;TZID=Europe/Berlin:20220811T190000
DTEND;TZID=Europe/Berlin:20220811T203000
DTSTAMP:20060812T125900Z
END:VEVENT
END:VCALENDAR