BEGIN:VCALENDAR
VERSION:2.0
PRODID:http://www.gelsenkirchen.de
METHOD:PUBLISH
BEGIN:VTIMEZONE
TZID:Europe/Berlin
BEGIN:DAYLIGHT
TZOFFSETFROM:+0100
TZOFFSETTO:+0200
DTSTART:19810329T020000
RRULE:FREQ=YEARLY;BYMONTH=3;BYDAY=-1SU
TZNAME:CEST
END:DAYLIGHT
BEGIN:STANDARD
TZOFFSETFROM:+0200
TZOFFSETTO:+0100
DTSTART:19961027T030000
RRULE:FREQ=YEARLY;BYMONTH=10;BYDAY=-1SU
TZNAME:CET
END:STANDARD
END:VTIMEZONE
BEGIN:VEVENT
UID:66837
ORGANIZER;CN="Scorpio Konzertproduktionen GmbH3" 
LOCATION:Veltins-ARENA, Arenaring, 45891 Gelsenkirchen
SUMMARY:Ed Sheeran: + – = ÷ x
DESCRIPTION:Auf dem ersten Teil seiner „+ – = ÷ x Tour“ (sprich: „The Mathematics Tour“) tourt Ed Sheeran durch Stadien in Großbritannien, Irland, Mitteleuropa und Skandinavien. An drei Abenden tritt der sympathische Engländer mit seinen Hits in Gelsenkirchen auf. Main Support ist die britische Singer-SongwriterinMaisie Peters. 
CLASS:PUBLIC
DTSTART;TZID=Europe/Berlin:20220708T180000
DTSTAMP:20060812T125900Z
END:VEVENT
END:VCALENDAR