BEGIN:VCALENDAR
VERSION:2.0
PRODID:http://www.gelsenkirchen.de
METHOD:PUBLISH
BEGIN:VTIMEZONE
TZID:Europe/Berlin
BEGIN:DAYLIGHT
TZOFFSETFROM:+0100
TZOFFSETTO:+0200
DTSTART:19810329T020000
RRULE:FREQ=YEARLY;BYMONTH=3;BYDAY=-1SU
TZNAME:CEST
END:DAYLIGHT
BEGIN:STANDARD
TZOFFSETFROM:+0200
TZOFFSETTO:+0100
DTSTART:19961027T030000
RRULE:FREQ=YEARLY;BYMONTH=10;BYDAY=-1SU
TZNAME:CET
END:STANDARD
END:VTIMEZONE
BEGIN:VEVENT
UID:66823
ORGANIZER;CN="Erlebnis-Museum Schloss Horst in Kooperation mit der Stadtteilbibliothek Horst und der historischen Druckwerkstatt" 
LOCATION:Schloss Horst, Turfstraße 21, 45899 Gelsenkirchen
SUMMARY:Sommerferien im Schloss Horst
DESCRIPTION:Heute ist Papier für uns überall zu finden. Wir benutzen es zum Schreiben, zum Drucken von Büchern und sogar als Haushaltspapier. Wie war es wohl früher bei Rutger von der Horst im Schloss?Um das herauszufinden werden wir im Museum und in der Historischen Druckwerkstatt nach Papier schauen und in der Stadtteilbibliothek Horst viele Bücher sehen.Ihr könnt euch selber Papier herstellen - „schöpfen“ - wie man es früher nannte.Selbstverständlich machen wir auch eine Pause, in der wir eine Pizza essen.Die Aktion findet im „Erlebnis-Museum“ Schloss Horst und der Stadtteilbibliothek Horststatt. Und natürlich in der Historische Druckwerkstatt.
CLASS:PUBLIC
DTSTART;TZID=Europe/Berlin:20220726T100000
DTEND;TZID=Europe/Berlin:20220726T160000
DTSTAMP:20060812T125900Z
END:VEVENT
END:VCALENDAR