BEGIN:VCALENDAR
VERSION:2.0
PRODID:http://www.gelsenkirchen.de
METHOD:PUBLISH
BEGIN:VTIMEZONE
TZID:Europe/Berlin
BEGIN:DAYLIGHT
TZOFFSETFROM:+0100
TZOFFSETTO:+0200
DTSTART:19810329T020000
RRULE:FREQ=YEARLY;BYMONTH=3;BYDAY=-1SU
TZNAME:CEST
END:DAYLIGHT
BEGIN:STANDARD
TZOFFSETFROM:+0200
TZOFFSETTO:+0100
DTSTART:19961027T030000
RRULE:FREQ=YEARLY;BYMONTH=10;BYDAY=-1SU
TZNAME:CET
END:STANDARD
END:VTIMEZONE
BEGIN:VEVENT
UID:66759
ORGANIZER;CN="Polizei Gelsenkirchen" 
LOCATION:Polizeipräsidium Buer, Ratshausplatz 4, 45894 Gelsenkirchen
SUMMARY:18. Sicherheitstag Gelsenkirchen
DESCRIPTION:Am 19. Juni 2022 findet der 18. Sicherheitstag der Ordnungspartner im Innenhof des Polizeipräsidiums in Gelsenkirchen Buer, Rathausplatz 4, statt.Schirmherrin ist in diesem Jahr Frau Oberbürgermeisterin Karin Welge.Von 11 bis 18 Uhr gibt es ein buntes Programm, Vorführungen und viele Informationen rund um das Thema Sicherheit. Gastronomie, Kinder-Aktionen, Musik und Unterhaltung gehören zum Programm.
CLASS:PUBLIC
DTSTART;TZID=Europe/Berlin:20220619T110000
DTEND;TZID=Europe/Berlin:20220619T180000
DTSTAMP:20060812T125900Z
END:VEVENT
END:VCALENDAR