BEGIN:VCALENDAR
VERSION:2.0
PRODID:http://www.gelsenkirchen.de
METHOD:PUBLISH
BEGIN:VTIMEZONE
TZID:Europe/Berlin
BEGIN:DAYLIGHT
TZOFFSETFROM:+0100
TZOFFSETTO:+0200
DTSTART:19810329T020000
RRULE:FREQ=YEARLY;BYMONTH=3;BYDAY=-1SU
TZNAME:CEST
END:DAYLIGHT
BEGIN:STANDARD
TZOFFSETFROM:+0200
TZOFFSETTO:+0100
DTSTART:19961027T030000
RRULE:FREQ=YEARLY;BYMONTH=10;BYDAY=-1SU
TZNAME:CET
END:STANDARD
END:VTIMEZONE
BEGIN:VEVENT
UID:65523
ORGANIZER;CN="Ruhr Tourismus GmbH" :MAILTO:info@ruhr-tourismus.de
LOCATION:Verschiedene Veranstaltungsorte, Verschiedene Orte in Gelsenkirchen, 45XXX Gelsenkirchen
SUMMARY:Tag der Trinkhallen 2022
DESCRIPTION:Am 6. August 2022 feiert die Metropole Ruhr zum dritten Mal ihre Budenkultur, die inzwischen auch ganz offiziell zum immateriellen Kulturerbe ernannt wurde: Es ist wieder Zeit für den Tag der Trinkhallen!Auch in diesem Jahr ist die Entscheidung über die 50 Programm-Buden von einer Jury aus Projektverantwortlichen, Projektpartnerinnen und -partnern sowie Trinkhallenexpertinnen und -experten gefällt worden. Auswahlkriterien waren unter anderem die Lage, die Architektur, logistische Gegebenheiten wie das Platzangebot und die Originalität der Kioske. Insgesamt verteilen sich die teilnehmenden Trinkhallen über das ganze Ruhrgebiet.In Gelsenkirchen sind zwei Trinkhallen dabei:Holger Erzbahnbude (Programmbude)Hinter Behmers Hof 145886 GelsenkirchenLotto-Kiosk Deimann/Schalke  (Programmbude)Gewerkenstraße 345881 GelsenkirchenUdo's Kiosk &amp; Brötchenbude Fersenbruch 7045883 Gelsenkirchen
CLASS:PUBLIC
DTSTART;TZID=Europe/Berlin:20220806
DTEND;TZID=Europe/Berlin:20220808
DTSTAMP:20060812T125900Z
END:VEVENT
END:VCALENDAR