BEGIN:VCALENDAR
VERSION:2.0
PRODID:http://www.gelsenkirchen.de
METHOD:PUBLISH
BEGIN:VTIMEZONE
TZID:Europe/Berlin
BEGIN:DAYLIGHT
TZOFFSETFROM:+0100
TZOFFSETTO:+0200
DTSTART:19810329T020000
RRULE:FREQ=YEARLY;BYMONTH=3;BYDAY=-1SU
TZNAME:CEST
END:DAYLIGHT
BEGIN:STANDARD
TZOFFSETFROM:+0200
TZOFFSETTO:+0100
DTSTART:19961027T030000
RRULE:FREQ=YEARLY;BYMONTH=10;BYDAY=-1SU
TZNAME:CET
END:STANDARD
END:VTIMEZONE
BEGIN:VEVENT
UID:65460
ORGANIZER;CN="Generationennetz Gelsenkirchen e.V." 
LOCATION:Kulturraum „die flora“, Florastraße 26, 45879 Gelsenkirchen
SUMMARY:Wasser-Welten: „Undine“
DESCRIPTION:Das Liebesdrama (D/FR 2020, 90 Min.) von Christian Petzold handelt von der Historikerin Undine (Paula Beer), die als Stadthistorikerin in Berlin arbeitet. Für ihr Umfeld führt sie ein ganz normales Leben in der Großstadt, doch in einer besonderen Konfliktsituation scheint ein besonderes Geheimnis alles zu verändern. Als ihr Freund Johannes (Jacob Matschenz) sie wegen einer anderen Frau verlässt, nimmt das Unheil seinen Lauf, plötzlich scheinen sich ihr reales Leben und das des mythischen Wassergeistes Undine zu verbinden. Doch anders als die Sagenfigur wehrt sich die moderne Undine gegen das ihr auferlegte Schicksal, denn inzwischen trat ein neuer Mann (Franz Rogowski) in ihr Leben. Undine versucht mit allen Mitteln, den Fluch zu überwinden. Diese Liebe will sie nicht verlieren.Bei den 70. Internationalen Filmfestspielen Berlin 2020 wurde Paula Beer mit dem Silbernen Bären als die beste Darstellerin ausgezeichnet und erhielt im gleichen Jahr den Europäischen Filmpreis.Wie immer schließt sich nach dem Film eine Diskussion mit den Vertreterinnen der Projektwerkstatt 50+ und dem Generationennetz an.Bitte informieren Sie sich auf der Homepage über den tagesaktuellen Stand der Corona-Maßnahmen!Veranstalter: Generationennetz Gelsenkirchen e. V. in Kooperation mit dem Kulturraum „die flora“
CLASS:PUBLIC
DTSTART;TZID=Europe/Berlin:20220612T150000
DTSTAMP:20060812T125900Z
END:VEVENT
END:VCALENDAR