BEGIN:VCALENDAR
VERSION:2.0
PRODID:http://www.gelsenkirchen.de
METHOD:PUBLISH
BEGIN:VTIMEZONE
TZID:Europe/Berlin
BEGIN:DAYLIGHT
TZOFFSETFROM:+0100
TZOFFSETTO:+0200
DTSTART:19810329T020000
RRULE:FREQ=YEARLY;BYMONTH=3;BYDAY=-1SU
TZNAME:CEST
END:DAYLIGHT
BEGIN:STANDARD
TZOFFSETFROM:+0200
TZOFFSETTO:+0100
DTSTART:19961027T030000
RRULE:FREQ=YEARLY;BYMONTH=10;BYDAY=-1SU
TZNAME:CET
END:STANDARD
END:VTIMEZONE
BEGIN:VEVENT
UID:65396
ORGANIZER;CN="Generationennetz Gelsenkirchen e.V." 
LOCATION:Kulturraum „die flora“, Florastraße 26, 45879 Gelsenkirchen
SUMMARY:Wasser-Welten: „Gestrandet“
DESCRIPTION:Das Jahr 2014 beginnt für die Bewohner und Bewohnerinnen von Strackholt mit einer ungewöhnlichen Nachricht: Eine kleine Gruppe eritreischer Flüchtlinge ist in dem 1500-Seelen-Dorf „gestrandet“. 20 km von Aurich, inmitten der ostfriesischen Leere, sollen die Neuankömmlinge den Ausgang ihres Asylverfahrens abwarten. Helmut, ein pensionierter Schuldirektor, und Christiane, eine Journalistin, nehmen sich der fünf Männer an. Mit Deutschunterricht, Ämtergängen und selbstgebackenem Kuchen versuchen sie, ihnen den Neuanfang in der fremden Umgebung zu erleichtern. Die Flüchtlinge nehmen das Hilfsangebot mit großem Elan an. Doch mit jedem Tag treten neue Konflikte auf, denn die Mühlen der Behörden mahlen langsam und die tägliche Ungewissheit zehrt an den Nerven aller Beteiligten.Der Film von Lisei Caspers (D 2016, 78 Min.) greift zahlreiche Facetten auf, die die einschneidende Erfahrung von Flucht auf beiden Seiten, bei den Geflüchteten wie bei den Einheimischen, mit sich bringt. Der Film wird aus Anlass des Gedenktages 8. Mai gezeigt, an den in Gelsenkirchen mit verschiedenen Veranstaltungen erinnert wird. Auch die ganz aktuelle, bedrückende und entsetzende Situation der Menschen in der Ukraine seit dem Angriff durch Russland zwingt erneut Millionen Menschen zur Flucht. Zu Beginn der Veranstaltung wird flora-Leiterin Wiltrud Apfeld den Gedenktag zum Anlass nehmen und über Fluchterfahrung von Deutschen zum Ende des Zweiten Weltkrieges sprechen. Nach dem Film schließt sich wie gewohnt die Diskussion unter Moderation von Martina Mail an. Sie spricht mit Mitgliedern einer Gelsenkirchener Flüchtlingshilfe über die aktuelle Situation. Die Veranstaltung möchte zum Austausch darüber anregen, wie offen eine Gesellschaft sein kann.Im Rahmen des Gelsenkirchener Veranstaltungsprogrammes zum Gedenktag 8. Mai. Weitere Informationen dazu können Sie dem unten angefügten Flyer als PDF entnehmen.Bitte informieren Sie sich auf der Homepage über den tagesaktuellen Stand der Corona-Maßnahmen!Weitere Termine:12. Juni 2022, 15 Uhr: UndineVeranstalter: Generationennetz Gelsenkirchen e. V. in Kooperation mit dem Kulturraum „die flora“
CLASS:PUBLIC
DTSTART;TZID=Europe/Berlin:20220508T150000
DTSTAMP:20060812T125900Z
END:VEVENT
END:VCALENDAR